BEGIN:VCALENDAR
VERSION:2.0
PRODID:-//ChamberMaster//Event Calendar 2.0//EN
METHOD:PUBLISH
X-PUBLISHED-TTL:P3D
REFRESH-INTERVAL:P3D
CALSCALE:GREGORIAN
BEGIN:VEVENT
DTSTART:20201210T170000Z
DTEND:20201210T180000Z
X-MICROSOFT-CDO-ALLDAYEVENT:FALSE
SUMMARY:Hudson Valley Magazine: Virtual Women in Business Luncheon
DESCRIPTION:Hudson Valley Magazine hosts its 4th annual Women in Business Virtual Celebration to be held in conjunction with the magazine's December issue showcasing leading area businesswomen. This virtual celebration features a keynote speaker and recognizes the accomplishments of the women profiled in the issue.
X-ALT-DESC;FMTTYPE=text/html:Hudson Valley Magazine hosts its 4th annual Women in Business Virtual Celebration to be held in conjunction with the magazine&rsquo\;s December issue showcasing leading area businesswomen. This virtual celebration features a keynote speaker and recognizes the accomplishments of the women profiled in the issue.
LOCATION:Virtual
UID:e.2770.10484548
SEQUENCE:3
DTSTAMP:20260421T194519Z
URL:https://business.dcrcoc.org/events/details/hudson-valley-magazine-virtual-women-in-business-luncheon-10484548
END:VEVENT

END:VCALENDAR
