BEGIN:VCALENDAR
VERSION:2.0
PRODID:-//ChamberMaster//Event Calendar 2.0//EN
METHOD:PUBLISH
X-PUBLISHED-TTL:P3D
REFRESH-INTERVAL:P3D
CALSCALE:GREGORIAN
BEGIN:VEVENT
DTSTART;VALUE=DATE:20171030
DTEND;VALUE=DATE:20171113
TRANSP:TRANSPARENT
X-MICROSOFT-CDO-ALLDAYEVENT:TRUE
SUMMARY:Hudson Valley Restaurant Week
DESCRIPTION:Hudson Valley Restaurant Week returns October 30th to November 12th. Be sure to make reservations early to snag a table. The two-week celebration of dining is an opportunity for chefs to flaunt their best fare\, for diners to check out new restaurants and visit old favorites. Over 200 participating restaurants offer special three-course lunch and dinner menus for a fraction of the normal price. No passes\, tickets or coupons are required. Reservations are highly recommended. Visit www.hudsonvalleyrestaurantweek.com for more details.
X-ALT-DESC;FMTTYPE=text/html:Hudson Valley Restaurant Week returns October 30th to November 12th. Be sure to make reservations early to snag a table. The two-week celebration of dining is an opportunity for chefs to flaunt their best fare\, for diners to check out new restaurants and visit old favorites. Over 200 participating restaurants offer special three-course lunch and dinner menus for a fraction of the normal price. No passes\, tickets or coupons are required. Reservations are highly recommended. Visit www.hudsonvalleyrestaurantweek.com for more details.
LOCATION:Hudson Valley
UID:e.2770.10475956
SEQUENCE:3
DTSTAMP:20260426T020450Z
URL:https://business.dcrcoc.org/events/details/hudson-valley-restaurant-week-10475956
END:VEVENT

END:VCALENDAR
