BEGIN:VCALENDAR
VERSION:2.0
PRODID:-//ChamberMaster//Event Calendar 2.0//EN
METHOD:PUBLISH
X-PUBLISHED-TTL:P3D
REFRESH-INTERVAL:P3D
CALSCALE:GREGORIAN
BEGIN:VEVENT
DTSTART:20180412T120000Z
DTEND:20180412T150000Z
X-MICROSOFT-CDO-ALLDAYEVENT:FALSE
SUMMARY:Hudson Valley Visionaries: A Look Into The Future Of Commercial Real Estate
DESCRIPTION:Join the Hudson Valley Economic Development Corporation - in partnership with the Hudson Gateway Association of Realtors - as we bring together a panel of VISIONARIES who will help us bridge the gap between today's commercial real estate marketplace and what's coming in the near and distant future.
X-ALT-DESC;FMTTYPE=text/html:Join the Hudson Valley Economic Development Corporation - in partnership with the Hudson Gateway Association of Realtors - as we bring together a panel of VISIONARIES who will help us bridge the gap between today&rsquo\;s commercial real estate marketplace and what&rsquo\;s coming in the near and distant future.
LOCATION:Student Center at Marist College The Nelly Goletti Theatre 3399 North Road Poughkeepsie\, NY
UID:e.2770.10476930
SEQUENCE:3
DTSTAMP:20260425T210655Z
URL:https://business.dcrcoc.org/events/details/hudson-valley-visionaries-a-look-into-the-future-of-commercial-real-estate-10476930
END:VEVENT

END:VCALENDAR
