BEGIN:VCALENDAR
VERSION:2.0
PRODID:-//ChamberMaster//Event Calendar 2.0//EN
METHOD:PUBLISH
X-PUBLISHED-TTL:P3D
REFRESH-INTERVAL:P3D
CALSCALE:GREGORIAN
BEGIN:VEVENT
DTSTART:20180908T150000Z
DTEND:20180909T210000Z
X-MICROSOFT-CDO-ALLDAYEVENT:FALSE
SUMMARY:Hudson Valley Wine & Food Fest
DESCRIPTION:The Hudson Valley Wine & Food Fest celebrates the bounty of wine\, food and fun in the Hudson Valley all in one place. This annual event takes place the second weekend of September at the Duchess County Fairgrounds. Enjoy hundreds of wines from Hudson Valley Wineries\, Cideries\, Distilleries\, Craft Beers\, Food Trucks and Gourmet Foods.
X-ALT-DESC;FMTTYPE=text/html:The Hudson Valley Wine &amp\; Food Fest celebrates the bounty of wine\, food and fun in the Hudson Valley all in one place. This annual event takes place the second weekend of September at the Duchess County Fairgrounds. Enjoy hundreds of wines from Hudson Valley Wineries\, Cideries\, Distilleries\, Craft Beers\, Food Trucks and Gourmet Foods.
LOCATION:Dutchess County Fairgrounds 6550 Spring Brook Ave\, Rhinebeck\, NY 12572
UID:e.2770.10479432
SEQUENCE:3
DTSTAMP:20260425T143620Z
URL:https://business.dcrcoc.org/events/details/hudson-valley-wine-food-fest-10479432
END:VEVENT

END:VCALENDAR
