BEGIN:VCALENDAR
VERSION:2.0
PRODID:-//ChamberMaster//Event Calendar 2.0//EN
METHOD:PUBLISH
X-PUBLISHED-TTL:P3D
REFRESH-INTERVAL:P3D
CALSCALE:GREGORIAN
BEGIN:VEVENT
DTSTART:20181119T220000Z
DTEND:20181120T000000Z
X-MICROSOFT-CDO-ALLDAYEVENT:FALSE
SUMMARY:Hudson Valley Young Professional's CEO Chat with Rob Dyson
DESCRIPTION:***This event is at full capacity.\n\nPre-registration is required.\n\nPlease call (845) 454-1700 ext. 1000 to be added to the waiting list.\n\n\n\nThe CEO Chats are an informal and conversational give-and-take between Hudson Valley Young Professionals and key community leaders. These events are free-flowing and allow for ample Q&A.\n\n\n\nHear thoughts on leadership\, management and much more including inspiring personal stories during this CEO Chat.\n\n\n\nPlease Click Here To View the Marist College Campus Map\n\n\n\nSponsored by: M & T Bank
X-ALT-DESC;FMTTYPE=text/html:<br />\n<span style="font-size:16px\;"><strong><span style="color:#FF0000\;">***This event is at full capacity.<br />\nPre-registration is required.<br />\nPlease call <a href="tel:(845) 454-1700">(845) 454-1700</a> ext. 1000 to be added to the waiting list.</span></strong></span><br />\n<br />\n<span style="font-size:14px\;"><span style="font-family: Arial\, Helvetica\, &quot\;MS Sans Serif&quot\;\, sans-serif\;">The CEO Chats are an informal and conversational give-and-take between Hudson Valley Young Professionals&nbsp\;and key community leaders. These events are free-flowing and allow for ample Q&amp\;A.</span><br style="font-family: Roboto\, sans-serif\; font-size: 14px\;" />\n<br style="font-family: Roboto\, sans-serif\; font-size: 14px\;" />\n<span style="font-family: Arial\, Helvetica\, &quot\;MS Sans Serif&quot\;\, sans-serif\;">Hear&nbsp\;thoughts on leadership\, management and much more including inspiring personal stories during this CEO Chat.</span><br />\n<br />\n<span style="font-size:16px\;"><strong><a href="https://www.marist.edu/about/map" target="_blank"><span style="color:#0000FF\;">Please Click Here To View the Marist College Campus Map</span></a></strong></span><br style="font-family: Roboto\, sans-serif\; font-size: 14px\;" />\n<br style="font-family: Roboto\, sans-serif\; font-size: 14px\;" />\n<strong><span style="font-family: Arial\, Helvetica\, &quot\;MS Sans Serif&quot\;\, sans-serif\;">Sponsored by:&nbsp\;<a href="https://www.mtb.com/home-page" style="color: rgb(100\, 50\, 130)\;" target="_blank"><span style="color: rgb(0\, 0\, 255)\;">M &amp\; T Bank</span></a></span></strong></span>
LOCATION:Hancock Center Boardroom Marist College 3399 North Road Poughkeepsie\, NY 12601
UID:e.2770.10476479
SEQUENCE:3
DTSTAMP:20260425T101804Z
URL:https://business.dcrcoc.org/events/details/hudson-valley-young-professional-s-ceo-chat-with-rob-dyson-10476479
END:VEVENT

END:VCALENDAR
