BEGIN:VCALENDAR
VERSION:2.0
PRODID:-//ChamberMaster//Event Calendar 2.0//EN
METHOD:PUBLISH
X-PUBLISHED-TTL:P3D
REFRESH-INTERVAL:P3D
CALSCALE:GREGORIAN
BEGIN:VEVENT
DTSTART:20171005T210000Z
DTEND:20171005T230000Z
X-MICROSOFT-CDO-ALLDAYEVENT:FALSE
SUMMARY:Hudson Valley Young Professionals: Business of Agri-Tourism Panel Discussion
DESCRIPTION:Join the Hudson Valley Young Professionals for an exciting business of agritourism panel discussion.\n\n\n\nModerator:\n\nLarry Gottlieb\, Hudson Valley Economic Development Corp.\n\n\n\nPanelists: \n\n\n\nRuth Moore\, Executive Director\, Cornell Cooperative Extension Dutchess County\n\n\n\nDanny Trotter\, Madava Farms\, The Home of Crown Maple\n\n\n\nMary Kay Vrba\, President & CEO\, Dutchess Tourism Inc.\n\n\n\nRick Osofsky\, Ronnybrook Farm Dairy\n\n\n\nMark Fredette\, Executive Director\, Sprout Creek Farm\n\n \n\nSponsored by M & T Bank\n\n\n\nTo RSVP\, call 845-454-1700 ext. 1000. or email chelsea@dcrcoc.org
X-ALT-DESC;FMTTYPE=text/html:<p style="color: rgb(51\, 51\, 51)\; font-family: sans-serif\, Arial\, Verdana\, &quot\;Trebuchet MS&quot\;\; font-size: 13px\;">Join the Hudson Valley Young Professionals for an exciting business of agritourism panel discussion.<br />\n<br />\n<strong><u>Moderator</u></strong>:<br />\nLarry Gottlieb\, <strong>Hudson Valley Economic Development Corp.</strong><br />\n<br />\n<strong><u>Panelists</u></strong>:&nbsp\;<br />\n<br />\nRuth Moore\, Executive Director\, <strong>Cornell Cooperative Extension Dutchess County</strong><br />\n<br />\nDanny Trotter<strong>\, Madava Farms\, The Home of Crown Maple</strong><br />\n<br />\nMary Kay Vrba\, President &amp\; CEO\, <strong>Dutchess Tourism Inc.</strong><br />\n<br />\nRick Osofsky\, <strong>Ronnybrook&nbsp\;Farm Dairy</strong><br />\n<br />\nMark Fredette\, Executive Director\,&nbsp\;<strong>Sprout Creek Farm</strong><br />\n&nbsp\;</p>\n\n<p style="font-family: sans-serif\, Arial\, Verdana\, &quot\;Trebuchet MS&quot\;\; font-size: 13px\;"><span style="color: rgb(51\, 51\, 51)\; font-family: sans-serif\, Arial\, Verdana\, &quot\;Trebuchet MS&quot\;\; font-size: 13px\; background-color: rgb(255\, 255\, 255)\;">Sponsored by </span><a href="https://www.mtb.com/home-page"><span style="font-family: sans-serif\, Arial\, Verdana\, &quot\;Trebuchet MS&quot\;\; font-size: 13px\; background-color: rgb(255\, 255\, 255)\;"><font color="#0000ff"><u>M &amp\; T Bank</u></font></span></a><br />\n<br />\n<strong>To RSVP\, call 845-454-1700 ext. 1000. or email chelsea@dcrcoc.org</strong><br />\n&nbsp\;</p>\n
LOCATION:Madava Farms\, The Home of Crown Maple 47 McCourt Road Dover Plains\, NY 12522
UID:e.2770.10474546
SEQUENCE:3
DTSTAMP:20260426T033648Z
URL:https://business.dcrcoc.org/events/details/hudson-valley-young-professionals-business-of-agri-tourism-panel-discussion-10474546
END:VEVENT

END:VCALENDAR
