BEGIN:VCALENDAR
VERSION:2.0
PRODID:-//ChamberMaster//Event Calendar 2.0//EN
METHOD:PUBLISH
X-PUBLISHED-TTL:P3D
REFRESH-INTERVAL:P3D
CALSCALE:GREGORIAN
BEGIN:VEVENT
DTSTART:20190919T210000Z
DTEND:20190920T003000Z
X-MICROSOFT-CDO-ALLDAYEVENT:FALSE
SUMMARY:Hudson Valley Young Professionals Clubs for College Mini Golf Tournament
DESCRIPTION:***Click HERE for the Registration Form\n\n\n\nCheck-In at 5 PM\n\n\n\nRAIN DATE: September 24th \n\n\n\nSponsored by: The Arc of Dutchess\, Marist College\, Mid-Hudson Valley Federal Credit Union\,  Studio 8\, Tompkins Mahopac Bank \n\n\n\nYou do not need to be a young professional to participate ? all ages and abilities welcome!
X-ALT-DESC;FMTTYPE=text/html:<span style="font-size: 18px\;"><span style="font-family: times new roman\;"><span style="color: rgb(0\, 0\, 0)\;">***Click</span> <a href="https://chambermaster.blob.core.windows.net/userfiles/UserFiles/chambers/2770/File/MiniGolf_reg2019.pdf" target="_blank"><strong><span style="color: rgb(0\, 0\, 255)\;">HERE</span></strong></a> <span style="color: rgb(0\, 0\, 0)\;">for the Registration Form</span></span></span><br>\n<br>\n<span style="font-size: 16px\;"><span style="color: rgb(0\, 0\, 0)\;"><strong>Check-In at 5 PM</strong></span></span><br>\n<br>\n<span style='font-family: Arial\, Helvetica\, "MS Sans Serif"\, sans-serif\; font-size: 14px\;'><strong><span style="color: rgb(255\, 0\, 0)\;"><em>RAIN DATE: September 24th&nbsp\;</em></span><br>\n<br>\nSponsored by:&nbsp\;<span style="font-size: 16px\;"><a href="http://www.arcdutchess.org"><span style="color: rgb(0\, 0\, 255)\;">The Arc of Dutchess\,</span></a><span style="color: rgb(0\, 0\, 255)\;"> </span><a href="http://www.marist.edu"><span style="color: rgb(0\, 0\, 255)\;">Marist College\,</span></a><span style="color: rgb(0\, 0\, 255)\;"> </span><a href="http://www.mhvfcu.com"><span style="color: rgb(0\, 0\, 255)\;">Mid-Hudson Valley Federal Credit Union\,&nbsp\;</span></a>&nbsp\;</span></strong></span><span style="font-size: 16px\;"><a href="https://www.studio8fit.com/the-workout.html"><u><span style="color: rgb(0\, 0\, 255)\;"><strong>Studio 8</strong></span></u></a></span><strong><u><font color="#0000ff">\,</font></u></strong> <span style='font-family: Arial\, Helvetica\, "MS Sans Serif"\, sans-serif\; font-size: 14px\;'><strong><span style="font-size: 16px\;"><a href="https://www.mahopacbank.com/"><span style="color: rgb(0\, 0\, 255)\;">Tompkins Mahopac Bank</span></a>&nbsp\;</span></strong></span><br>\n<br>\n<span style="font-size: 16px\;"><strong><em>You do not need to be a young professional to participate ? all ages and abilities welcome!</em></strong></span><br>\n&nbsp\;
LOCATION:DC Sports NY LLC 1630 Route 9 Wappingers Falls
UID:e.2770.10479888
SEQUENCE:3
DTSTAMP:20260422T221048Z
URL:https://business.dcrcoc.org/events/details/hudson-valley-young-professionals-clubs-for-college-mini-golf-tournament-10479888
END:VEVENT

END:VCALENDAR
