BEGIN:VCALENDAR
VERSION:2.0
PRODID:-//ChamberMaster//Event Calendar 2.0//EN
METHOD:PUBLISH
X-PUBLISHED-TTL:P3D
REFRESH-INTERVAL:P3D
CALSCALE:GREGORIAN
BEGIN:VEVENT
DTSTART:20200514T210000Z
DTEND:20200514T230000Z
X-MICROSOFT-CDO-ALLDAYEVENT:FALSE
SUMMARY:Hudson Valley Young Professionals Education Event - POSTPONED***
DESCRIPTION:Sponsored by: M & T Bank
X-ALT-DESC;FMTTYPE=text/html:<span style="font-size:16px\;"><span style="font-family:tahoma\;"><strong>Sponsored by: <a href="https://www.mtb.com/home-page" target="_blank"><span style="color:#0000FF\;">M &amp\; T Bank</span></a></strong></span></span>
LOCATION:Buttermilk Falls Inn & Spa 220 North Road Milton
UID:e.2770.10482574
SEQUENCE:3
DTSTAMP:20260422T063824Z
URL:https://business.dcrcoc.org/events/details/hudson-valley-young-professionals-education-event-postponed-10482574
END:VEVENT

END:VCALENDAR
