BEGIN:VCALENDAR
VERSION:2.0
PRODID:-//ChamberMaster//Event Calendar 2.0//EN
METHOD:PUBLISH
X-PUBLISHED-TTL:P3D
REFRESH-INTERVAL:P3D
CALSCALE:GREGORIAN
BEGIN:VEVENT
DTSTART:20171110T140000Z
DTEND:20171214T170000Z
X-MICROSOFT-CDO-ALLDAYEVENT:FALSE
SUMMARY:Hudson Valley Young Professionals - HOLIDAY TOY DRIVE
DESCRIPTION:The Hudson Valley Young Professionals are collecting toys from now until December 14 to benefit children and teens from\n\nThe Center for the Prevention of Child Abuse.      \n\n  \n\n\n\nBring new\, unwrapped gifts to participating Foam & Wash locations and receive a FREE car wash!\n\n\n\nThank you to Foam & Wash Car Wash and Guardian Self Storage\n\n for sponsoring!\n\n\n\n          Foam & Wash Laundromat     1520 Route 9\, Wappingers Falls\n\n\n\n          Foam & Wash Mobil Mart       1942 Route 9\, Poughkeepsie\n\n\n\n          Foam & Wash   Oil Change Plus   1942 Route 9\, Poughkeepsie\n\n\n\n          Foam & Wash   Oil Change Plus   778 Route 9\, Fishkill\n\n \n\n          Foam & Wash Car Wash    20 Merritt Blvd.\,  Fishkill\n\n \n\n          Foam & Wash Car Wash    15 North Grand Ave\, Poughkeepsie\n\n\n\n\n\nThank you for helping us bring cheer to local children this Holiday Season and for Giving Local First!
X-ALT-DESC;FMTTYPE=text/html:<span style="font-size:14px\;">The Hudson Valley Young Professionals are collecting toys from now until <strong>December 14</strong> to benefit children and teens from<br />\n<a href="http://www.thecpca.com"><span style="color:#0000FF\;"><strong>The Center for the Prevention of Child Abuse</strong></span></a>.&nbsp\;&nbsp\;&nbsp\;&nbsp\;&nbsp\;&nbsp\;<br />\n&nbsp\;&nbsp\;</span><br />\n<br />\n<span style="color: rgb(51\, 51\, 51)\; font-family: sans-serif\, Arial\, Verdana\, &quot\;Trebuchet MS&quot\;\; font-size: 14px\; background-color: rgb(255\, 255\, 255)\;">Bring new\, unwrapped gifts to participating Foam &amp\; Wash locations and receive a FREE car wash!<br />\n<br />\nThank you to&nbsp\;</span><span style="font-family: sans-serif\, Arial\, Verdana\, &quot\;Trebuchet MS&quot\;\; font-size: 14px\; background-color: rgb(255\, 255\, 255)\;"><a href="http://www.foamandwash.com/"><span style="color:#0000FF\;">Foam &amp\; Wash Car Wash</span></a></span><span style="color: rgb(51\, 51\, 51)\; font-family: sans-serif\, Arial\, Verdana\, &quot\;Trebuchet MS&quot\;\; font-size: 14px\; background-color: rgb(255\, 255\, 255)\;">&nbsp\;and </span><span style="font-family: sans-serif\, Arial\, Verdana\, &quot\;Trebuchet MS&quot\;\; font-size: 14px\;"><a href="http://www.guardianselfstorage.com" style="color: rgb(7\, 130\, 193)\; font-family: sans-serif\, Arial\, Verdana\, &quot\;Trebuchet MS&quot\;\; font-size: 14px\;"><span style="color:#0000FF\;">Guardian Self Storage</span></a></span><br />\n<span style="color: rgb(0\, 0\, 255)\; font-family: sans-serif\, Arial\, Verdana\, &quot\;Trebuchet MS&quot\;\; font-size: 14px\;">&nbsp\;</span><span style="color: rgb(51\, 51\, 51)\; font-family: sans-serif\, Arial\, Verdana\, &quot\;Trebuchet MS&quot\;\; font-size: 14px\; background-color: rgb(255\, 255\, 255)\;">for sponsoring!</span><br />\n<br />\n<span style="font-size:16px\;">&bull\;&nbsp\;&nbsp\;&nbsp\;&nbsp\;&nbsp\;&nbsp\;&nbsp\;&nbsp\; Foam &amp\; Wash Laundromat&nbsp\; &nbsp\; &nbsp\;<strong><span style="font-size:12px\;">1520 Route 9\, Wappingers Falls</span></strong><br />\n<br />\n&bull\;&nbsp\;&nbsp\;&nbsp\;&nbsp\;&nbsp\;&nbsp\;&nbsp\;&nbsp\; Foam &amp\; Wash Mobil Mart&nbsp\; &nbsp\; &nbsp\; &nbsp\;<strong><span style="font-size:12px\;">1942 Route 9\, Poughkeepsie</span></strong><br />\n<br />\n&bull\;&nbsp\;&nbsp\;&nbsp\;&nbsp\;&nbsp\;&nbsp\;&nbsp\;&nbsp\; Foam &amp\; Wash &ndash\; Oil Change Plus&nbsp\; &nbsp\;<strong><span style="font-size:12px\;">1942 Route 9\, Poughkeepsie</span></strong><br />\n<br />\n&bull\;&nbsp\;&nbsp\;&nbsp\;&nbsp\;&nbsp\;&nbsp\;&nbsp\;&nbsp\; Foam &amp\; Wash &ndash\; Oil Change Plus&nbsp\; <span style="font-size:12px\;">&nbsp\;<strong>778 Route 9\, Fishkill</strong><br />\n&#8203\;</span><br />\n&bull\;&nbsp\;&nbsp\;&nbsp\;&nbsp\;&nbsp\;&nbsp\;&nbsp\;&nbsp\; Foam &amp\; Wash Car Wash&nbsp\; &nbsp\;&nbsp\;<span style="font-size:12px\;"><strong>20 Merritt Blvd.\,&nbsp\; Fishkill</strong><br />\n&#8203\;</span><br />\n&bull\;&nbsp\;&nbsp\;&nbsp\;&nbsp\;&nbsp\;&nbsp\;&nbsp\;&nbsp\; Foam &amp\; Wash Car Wash&nbsp\;&nbsp\;<strong><span style="font-size:12px\;">&nbsp\;&nbsp\;15 North Grand Ave\, Poughkeepsie</span></strong></span><br />\n<br />\n<br />\n<span style="color: rgb(51\, 51\, 51)\; font-family: sans-serif\, Arial\, Verdana\, &quot\;Trebuchet MS&quot\;\; font-size: 14px\; background-color: rgb(255\, 255\, 255)\;">Thank you for helping us bring cheer to local children this Holiday Season and for Giving Local First!&nbsp\;&nbsp\;</span>
LOCATION:
UID:e.2770.10476488
SEQUENCE:3
DTSTAMP:20260426T005244Z
URL:https://business.dcrcoc.org/events/details/hudson-valley-young-professionals-holiday-toy-drive-10476488
END:VEVENT

END:VCALENDAR
