BEGIN:VCALENDAR
VERSION:2.0
PRODID:-//ChamberMaster//Event Calendar 2.0//EN
METHOD:PUBLISH
X-PUBLISHED-TTL:P3D
REFRESH-INTERVAL:P3D
CALSCALE:GREGORIAN
BEGIN:VEVENT
DTSTART:20180225T180000Z
DTEND:20180225T210000Z
X-MICROSOFT-CDO-ALLDAYEVENT:FALSE
SUMMARY:Hudson Valley Young Professionals present Strikes for Scholars Bowling Tournament
DESCRIPTION:***The tournament is SOLD-OUT. Please contact chelsea@dcrcoc.org to be added to the waiting list.\n\n\n\nThe Hudson Valley Young Professionals will present the Bowling Tournament benefiting The Chamber Foundation\, Inc. It's food\, prizes and fun for all ages plus a trophy ceremony for top scoring teams!\n\n\n\np.p1 {margin: 0.0px 0.0px 0.0px 0.0px\; font: 24.0px Times}\np.p2 {margin: 0.0px 0.0px 0.0px 0.0px\; font: 16.0px Times\; color: #042eee}\np.p3 {margin: 0.0px 0.0px 0.0px 0.0px\; font: 16.0px Times\; color: #551a8b}\np.p4 {margin: 0.0px 0.0px 0.0px 0.0px\; font: 16.0px Times}\nspan.s1 {letter-spacing: 0.0px}\nspan.s2 {text-decoration: underline \; letter-spacing: 0.0px}\nspan.s3 {letter-spacing: 0.0px\; color: #000000}\nspan.s4 {text-decoration: underline \; letter-spacing: 0.0px\; color: #551a8b}\n\nThank you to our Sponsors!\n\n40 Cannon\n\nAdelphi University\n\n DCH Wappingers Falls Toyota \n\nBranding Pros\n\nMobile Life Support Services
X-ALT-DESC;FMTTYPE=text/html:<span style="font-size: 14px\;"><span style="font-family: arial\;"><strong>***The tournament is SOLD-OUT. Please contact <span style="color:#0000FF\;"><u>chelsea@dcrcoc.org</u></span> to be added to the waiting list.</strong><br />\n<br />\nThe Hudson Valley Young Professionals will present the Bowling Tournament benefiting The Chamber Foundation\, Inc.&nbsp\;It&#39\;s food\, prizes and fun for all ages plus a trophy ceremony for top scoring teams!</span></span><br />\n<br />\n<style type="text/css">p.p1 {margin: 0.0px 0.0px 0.0px 0.0px\; font: 24.0px Times}\np.p2 {margin: 0.0px 0.0px 0.0px 0.0px\; font: 16.0px Times\; color: #042eee}\np.p3 {margin: 0.0px 0.0px 0.0px 0.0px\; font: 16.0px Times\; color: #551a8b}\np.p4 {margin: 0.0px 0.0px 0.0px 0.0px\; font: 16.0px Times}\nspan.s1 {letter-spacing: 0.0px}\nspan.s2 {text-decoration: underline \; letter-spacing: 0.0px}\nspan.s3 {letter-spacing: 0.0px\; color: #000000}\nspan.s4 {text-decoration: underline \; letter-spacing: 0.0px\; color: #551a8b}\n</style>\n<p><span style="font-size: 14px\;"><span style="font-family: arial\;"><strong>Thank you to our Sponsors!</strong></span></span></p>\n\n<p><a href="https://40cannon.com/" style="font-family: arial\; font-size: 14px\;" target="_blank">40 Cannon</a><br />\n<span style="font-size: 14px\;"><span style="font-family: arial\;"><a href="http://www.adelphi.edu/" target="_blank">Adelphi University</a><br />\n<a href="http://dchwappingerstoyota.com/" target="_blank">&#8203\;DCH Wappingers Falls Toyota</a>&nbsp\;<br />\n<a href="https://www.brandingpros.com/" target="_blank">Branding Pros</a><br />\n<a href="http://www.mobilelife.com" target="_blank">Mobile Life Support Services</a></span></span><br />\n&nbsp\;</p>\n
LOCATION:Schneider's Fishkill Bowl 110 Route 82 Fishkill\, NY
UID:e.2770.10476410
SEQUENCE:3
DTSTAMP:20260425T222445Z
URL:https://business.dcrcoc.org/events/details/hudson-valley-young-professionals-present-strikes-for-scholars-bowling-tournament-10476410
END:VEVENT

END:VCALENDAR
