BEGIN:VCALENDAR
VERSION:2.0
PRODID:-//ChamberMaster//Event Calendar 2.0//EN
METHOD:PUBLISH
X-PUBLISHED-TTL:P3D
REFRESH-INTERVAL:P3D
CALSCALE:GREGORIAN
BEGIN:VEVENT
DTSTART:20180731T210000Z
DTEND:20180731T230000Z
X-MICROSOFT-CDO-ALLDAYEVENT:FALSE
SUMMARY:Hudson Valley Young Professionals - Unwind
DESCRIPTION:Join the Hudson Valley Young Professionals for an Unwind networking event. Complimentary appetizers and a cash bar will be available.\n\n\n\nFor more information on the Hudson Valley Young Professionals\, click HERE.\n\nSponsored by: Hudson Valley Renegades
X-ALT-DESC;FMTTYPE=text/html:<p><span style="font-family:arial\;">Join the Hudson Valley Young Professionals for an Unwind networking event. Complimentary&nbsp\;<span style="color: black\; font-size: 10.5pt\;">appetizers</span>&nbsp\;and a cash bar will be available.<br />\n<br />\nFor more information on the Hudson Valley Young Professionals\, click&nbsp\;<a href="/hvyp"><span style="color:#0000FF\;">HERE</span></a>.</span></p>\n\n<p><span style="font-family:arial\;">Sponsored by:&nbsp\;<a href="http://www.hvrenegades.com"><span style="color:#0000FF\;">Hudson Valley Renegades</span></a></span></p>\n\n<p>&nbsp\;</p>\n
LOCATION:Paula's Public House 2186 New Hackensack Rd Poughkeepsie\, NY 12603
UID:e.2770.10476476
SEQUENCE:3
DTSTAMP:20260425T154914Z
URL:https://business.dcrcoc.org/events/details/hudson-valley-young-professionals-unwind-10476476
END:VEVENT

END:VCALENDAR
