BEGIN:VCALENDAR
VERSION:2.0
PRODID:-//ChamberMaster//Event Calendar 2.0//EN
METHOD:PUBLISH
X-PUBLISHED-TTL:P3D
REFRESH-INTERVAL:P3D
CALSCALE:GREGORIAN
BEGIN:VEVENT
DTSTART:20190205T220000Z
DTEND:20190206T000000Z
X-MICROSOFT-CDO-ALLDAYEVENT:FALSE
SUMMARY:Hudson Valley Young Professionals - Unwind Networking Event
DESCRIPTION:Hudson Valley Young Professional's Networking Event\n\n\n\nSponsored by: Talex Media LLC
X-ALT-DESC;FMTTYPE=text/html:<span style="font-size: 14px\;">Hudson Valley Young Professional&#39\;s Networking Event</span><br />\n<br />\n<span style="font-family: Arial\, Helvetica\, &quot\;MS Sans Serif&quot\;\, sans-serif\; font-size: 14px\;"><strong>Sponsored by: <a href="https://www.talexmedia.com/" target="_blank">Talex Media LLC</a></strong></span>
LOCATION:Tiki Temple 206 Main Street Poughkeepsie
UID:e.2770.10479770
SEQUENCE:3
DTSTAMP:20260423T112141Z
URL:https://business.dcrcoc.org/events/details/hudson-valley-young-professionals-unwind-networking-event-10479770
END:VEVENT

END:VCALENDAR
