BEGIN:VCALENDAR
VERSION:2.0
PRODID:-//ChamberMaster//Event Calendar 2.0//EN
METHOD:PUBLISH
X-PUBLISHED-TTL:P3D
REFRESH-INTERVAL:P3D
CALSCALE:GREGORIAN
BEGIN:VEVENT
DTSTART:20191118T230000Z
DTEND:20191119T010000Z
X-MICROSOFT-CDO-ALLDAYEVENT:FALSE
SUMMARY:Human Trafficking Speaker and Movie Screening
DESCRIPTION:Please join us for our next meeting to hear from a representative of Safe Homes of Orange County and a sex therapist on human trafficking & prostitution. Afterwards\, we will have a movie screening of "I am Jane Doe" which covers trafficking in current day America. Individuals requiring special accommodations should contact the Office of Campus Activities at (845) 437-5370 for assistance.
X-ALT-DESC;FMTTYPE=text/html:Please join us for our next meeting to hear from a representative of Safe Homes of Orange County and a sex therapist on human trafficking &amp\; prostitution. Afterwards\, we will have a movie screening of &ldquo\;I am Jane Doe&rdquo\; which covers trafficking in current day America. Individuals requiring special accommodations should contact the Office of Campus Activities at (845) 437-5370 for assistance.
LOCATION:Vassar College Rockefeller Hall 300
UID:e.2770.10482565
SEQUENCE:3
DTSTAMP:20260422T165749Z
URL:https://business.dcrcoc.org/events/details/human-trafficking-speaker-and-movie-screening-10482565
END:VEVENT

END:VCALENDAR
