BEGIN:VCALENDAR
VERSION:2.0
PRODID:-//ChamberMaster//Event Calendar 2.0//EN
METHOD:PUBLISH
X-PUBLISHED-TTL:P3D
REFRESH-INTERVAL:P3D
CALSCALE:GREGORIAN
BEGIN:VEVENT
DTSTART:20180127T210000Z
DTEND:20180128T020000Z
X-MICROSOFT-CDO-ALLDAYEVENT:FALSE
SUMMARY:HV Wingfest 11!
DESCRIPTION:Hudson Valley Wingfest 11! Saturday\, January 27\, 2018 5:00pm 9:00pm General Admisson VIP: Doors open at 4:00pm Who will be the king of the wings?! In it's 11th season\, Hudson Valley Wingfest is sure to be the fiercest competition yet! HV Wingfest 11 will bring together the best wings from around the Hudson Valley along with live music\, cold beer and more. It will be the hottest event this Winter and you won't want to miss it! Admission: General Admisson: $30.00 VIP: $50.00 4-Pack General Admission: $99.00
X-ALT-DESC;FMTTYPE=text/html:Hudson Valley Wingfest 11! Saturday\, January 27\, 2018 5:00pm&ndash\;9:00pm General Admisson VIP: Doors open at 4:00pm Who will be the king of the wings?! In it&#39\;s 11th season\, Hudson Valley Wingfest is sure to be the fiercest competition yet! HV Wingfest 11 will bring together the best wings from around the Hudson Valley along with live music\, cold beer and more. It will be the hottest event this Winter and you won&#39\;t want to miss it! Admission: General Admisson: $30.00 VIP: $50.00 4-Pack General Admission: $99.00
LOCATION:Mid-Hudson Civic Center 14 Civic Center Plaza Poughkeepsie\, New York 12601
UID:e.2770.10476540
SEQUENCE:3
DTSTAMP:20260425T232139Z
URL:https://business.dcrcoc.org/events/details/hv-wingfest-11-10476540
END:VEVENT

END:VCALENDAR
