BEGIN:VCALENDAR
VERSION:2.0
PRODID:-//ChamberMaster//Event Calendar 2.0//EN
METHOD:PUBLISH
X-PUBLISHED-TTL:P3D
REFRESH-INTERVAL:P3D
CALSCALE:GREGORIAN
BEGIN:VEVENT
DTSTART:20200130T210000Z
DTEND:20200131T000000Z
X-MICROSOFT-CDO-ALLDAYEVENT:FALSE
SUMMARY:HVCS Job Fair
DESCRIPTION:Hudson Valley Community Services (HVCS) is holding a job fair to fill a variety of positions. We're looking for care/case managers\, prevention specialists\, and other qualified potential employees to join our warm\, caring staff throughout the Hudson Valley. No appointment necessary\, just arrive with copies of your resume for immediate interviews. Check out our available positions and complete a job application by going to www.hudsonvalleycs.org.
X-ALT-DESC;FMTTYPE=text/html:Hudson Valley Community Services (HVCS) is holding a job fair to fill a variety of positions. We&#39\;re looking for care/case managers\, prevention specialists\, and other qualified potential employees to join our warm\, caring staff throughout the Hudson Valley. No appointment necessary\, just arrive with copies of your resume for immediate interviews. Check out our available positions and complete a job application by going to www.hudsonvalleycs.org.
LOCATION:40 Saw Mill River Road\, Suite UL-5 Hawthorne\, NY 10532
UID:e.2770.10482650
SEQUENCE:3
DTSTAMP:20260422T133246Z
URL:https://business.dcrcoc.org/events/details/hvcs-job-fair-10482650
END:VEVENT

END:VCALENDAR
