BEGIN:VCALENDAR
VERSION:2.0
PRODID:-//ChamberMaster//Event Calendar 2.0//EN
METHOD:PUBLISH
X-PUBLISHED-TTL:P3D
REFRESH-INTERVAL:P3D
CALSCALE:GREGORIAN
BEGIN:VEVENT
DTSTART:20201021T161500Z
DTEND:20201021T173000Z
X-MICROSOFT-CDO-ALLDAYEVENT:FALSE
SUMMARY:HVCU's Women in Business: Finding Opportunity In Crisis
DESCRIPTION:Dr. Lynn Richardson is an author\, entertainment executive and celebrity financial coach who uses her quick wit and humorous presentation style to help others face their money issues and achieve personal\, professional\, and spiritual harmony. Dr. Lynn Richardson has been called a business and brand builder. 2020 has delivered some of the most game changing and impactful crisis events ever seen. Dr. Lynn is positioning companies and entrepreneurs to understand the preparation needed to not only recover from the roller coaster of 2020\, but how to strategically align themselves for 2021 and beyond. She will be sharing her wisdom on business development\, finances\, and the impact of positivity!
X-ALT-DESC;FMTTYPE=text/html:Dr. Lynn Richardson is an author\, entertainment executive and celebrity financial coach who uses her quick wit and humorous presentation style to help others face their money issues and achieve personal\, professional\, and spiritual harmony. Dr. Lynn Richardson has been called a business and brand builder. 2020 has delivered some of the most game changing and impactful crisis events ever seen. Dr. Lynn is positioning companies and entrepreneurs to understand the preparation needed to not only recover from the roller coaster of 2020\, but how to strategically align themselves for 2021 and beyond. She will be sharing her wisdom on business development\, finances\, and the impact of positivity!
LOCATION:Zoom
UID:e.2770.10484481
SEQUENCE:3
DTSTAMP:20260421T223743Z
URL:https://business.dcrcoc.org/events/details/hvcu-s-women-in-business-finding-opportunity-in-crisis-10484481
END:VEVENT

END:VCALENDAR
