BEGIN:VCALENDAR
VERSION:2.0
PRODID:-//ChamberMaster//Event Calendar 2.0//EN
METHOD:PUBLISH
X-PUBLISHED-TTL:P3D
REFRESH-INTERVAL:P3D
CALSCALE:GREGORIAN
BEGIN:VEVENT
DTSTART:20180619T123000Z
DTEND:20180619T173000Z
X-MICROSOFT-CDO-ALLDAYEVENT:FALSE
SUMMARY:HVFCU Presents Women in Business
DESCRIPTION:Join Hudson Valley Federal Credit Union for Women in Business: 2018   Maximizing our Potential. Enjoy a keynote from Casey Brown\, President of Boost Pricing\, and learn how to "Get Paid Well for Your Excellence." Casey's Ted Talk has been viewed more than 2.4 million times. Morning sessions include expanding your business at your pace\, as well as two panel discussions on executive/entrepreneurial success stories and creating your company's culture and hiring for it effectively. Whether you're a seasoned executive or entrepreneur\, or aspire to be one some day - this day is for you.
X-ALT-DESC;FMTTYPE=text/html:Join Hudson Valley Federal Credit Union for Women in Business: 2018 &ndash\; Maximizing our Potential. Enjoy a keynote from Casey Brown\, President of Boost Pricing\, and learn how to &ldquo\;Get Paid Well for Your Excellence.&rdquo\; Casey&rsquo\;s Ted Talk has been viewed more than 2.4 million times. Morning sessions include expanding your business at your pace\, as well as two panel discussions on executive/entrepreneurial success stories and creating your company&rsquo\;s culture and hiring for it effectively. Whether you&#39\;re a seasoned executive or entrepreneur\, or aspire to be one some day - this day is for you.
LOCATION:Anthony's Pier 9\, 2975 Route 9W\, New Windsor\, NY
UID:e.2770.10477796
SEQUENCE:3
DTSTAMP:20260425T171055Z
URL:https://business.dcrcoc.org/events/details/hvfcu-presents-women-in-business-10477796
END:VEVENT

END:VCALENDAR
