BEGIN:VCALENDAR
VERSION:2.0
PRODID:-//ChamberMaster//Event Calendar 2.0//EN
METHOD:PUBLISH
X-PUBLISHED-TTL:P3D
REFRESH-INTERVAL:P3D
CALSCALE:GREGORIAN
BEGIN:VEVENT
DTSTART:20171116T220000Z
DTEND:20171117T000000Z
X-MICROSOFT-CDO-ALLDAYEVENT:FALSE
SUMMARY:HVYP: CEO Chat with Krista Jones
DESCRIPTION:***PLEASE NOTE: You cannot drive through the Marist College campus to get to the Hudson River Rowing Association's Boathouse. You must take North Water Street and follow the road until the end. You will cross over train tracks.\n\n\n\n\n\nThe CEO Chats are an informal and conversational give-and-take between Hudson Valley Young Professionals and key community leaders. These events are free-flowing and allow for ample Q&A.\n\n\n\nHear Krista Jones of Sparrow's Nest\, provide her thoughts on leadership\, management and much more including her inspiring personal story during this CEO Chat.\n\n\n\nSponsored by: M & T Bank\n\n\n\n*** The Hudson Valley Young Professionals are having their annual toy drive! Bring new\, unwrapped toys to benefit the children at The Center for the Prevention of Child Abuse. Your donations are greatly appreciated!
X-ALT-DESC;FMTTYPE=text/html:<span style="font-size:14px\;"><span style="font-family: Arial\, Helvetica\, &quot\;MS Sans Serif&quot\;\, sans-serif\; background-color: rgb(255\, 255\, 255)\;">***PLEASE NOTE: You cannot drive through the Marist College campus to get to the Hudson River Rowing Association&#39\;s Boathouse. You must take North Water Street and follow the road until the end. You will cross over train tracks.<br />\n<br />\n<br />\nThe CEO Chats are an informal and conversational give-and-take between Hudson Valley Young Professionals&nbsp\;and key community leaders. These events are free-flowing and allow for ample Q&amp\;A.</span><br />\n<br />\n<span style="color: rgb(51\, 51\, 51)\; font-family: Arial\, Helvetica\, &quot\;MS Sans Serif&quot\;\, sans-serif\; background-color: rgb(255\, 255\, 255)\;">Hear <strong>Krista Jones of Sparrow&#39\;s Nest</strong>\, provide her thoughts on leadership\, management and much more including her inspiring personal story during this CEO Chat.</span><br />\n<br />\n<span style="font-family: Arial\, Helvetica\, &quot\;MS Sans Serif&quot\;\, sans-serif\; background-color: rgb(255\, 255\, 255)\;">Sponsored by:&nbsp\;<strong><a href="https://www.mtb.com/home-page" target="_blank"><span style="color:#0000FF\;">M &amp\; T Bank</span></a><br />\n<br />\n<span style="font-family:times new roman\;">*** The Hudson Valley Young Professionals are having their annual toy drive! Bring</span></strong></span><span style="font-family:times new roman\;"><strong>&nbsp\;new\, unwrapped toys&nbsp\;to benefit the children at The Center for the Prevention of Child Abuse. Your donations are greatly appreciated!</strong></span></span>\n<div>&nbsp\;</div>\n
LOCATION:Hudson River Rowing Association Boathouse 270 North Water Street Poughkeepsie\, NY
UID:e.2770.10476083
SEQUENCE:3
DTSTAMP:20260426T020614Z
URL:https://business.dcrcoc.org/events/details/hvyp-ceo-chat-with-krista-jones-10476083
END:VEVENT

END:VCALENDAR
