BEGIN:VCALENDAR
VERSION:2.0
PRODID:-//ChamberMaster//Event Calendar 2.0//EN
METHOD:PUBLISH
X-PUBLISHED-TTL:P3D
REFRESH-INTERVAL:P3D
CALSCALE:GREGORIAN
BEGIN:VEVENT
DTSTART:20180421T140000Z
DTEND:20180421T160000Z
X-MICROSOFT-CDO-ALLDAYEVENT:FALSE
SUMMARY:HVYP Community Outreach - National Volunteer Week
DESCRIPTION:Join us for the Hudson Valley Young Professional's day of community outreach to spruce up the Hudson Valley. Rain or shine. Materials will be provided. Volunteers are needed for the clean-up of Middle Main Street.
X-ALT-DESC;FMTTYPE=text/html:<p><span style="background:white\;"><span style="color:#333333\;"><span style="font-family:arial\,sans-serif\;"><span style="font-size:10.5pt\;">Join us for the Hudson Valley Young Professional&#39\;s day of community outreach to spruce up the Hudson Valley. Rain or shine. Materials will be provided. Volunteers are needed for the clean-up of Middle Main Street.&nbsp\;</span></span></span></span><br />\n&nbsp\;</p>\n
LOCATION:Volunteers will meet at: The Poughkeepsie Underwear Factory 8 N Cherry Street Poughkeepsie NY 12601
UID:e.2770.10476473
SEQUENCE:3
DTSTAMP:20260425T195233Z
URL:https://business.dcrcoc.org/events/details/hvyp-community-outreach-national-volunteer-week-10476473
END:VEVENT

END:VCALENDAR
