BEGIN:VCALENDAR
VERSION:2.0
PRODID:-//ChamberMaster//Event Calendar 2.0//EN
METHOD:PUBLISH
X-PUBLISHED-TTL:P3D
REFRESH-INTERVAL:P3D
CALSCALE:GREGORIAN
BEGIN:VEVENT
DTSTART:20180322T210000Z
DTEND:20180322T230000Z
X-MICROSOFT-CDO-ALLDAYEVENT:FALSE
SUMMARY:HVYP: Helen Rothberg on Leadership
DESCRIPTION:Join the Hudson Valley Young Professionals & Marist Young Professionals to hear from Marist College Professor and author Helen Rothberg\, highlighting her book\, "The Perfect Mix\, Everything I Know About Leadership I Learned as a Bartender."\n\n\n\nJoin us for a book signing following the presentation.\n\n\n\nSponsored by: M & T Bank\, Hudson Valley Division
X-ALT-DESC;FMTTYPE=text/html:<span style="font-family: arial\,sans-serif\;"><span style="font-size: 10pt\;">Join the Hudson Valley Young Professionals &amp\; Marist Young Professionals to hear from Marist College Professor and author Helen Rothberg\, highlighting her book\, &quot\;The Perfect Mix\, Everything I Know About Leadership I Learned as a Bartender.&quot\;<br />\n<br />\nJoin us for a book signing following the presentation.<br />\n<br />\nSponsored by: <span style="color: rgb(0\, 0\, 255)\;"><a href="http://www.mtb.com" target="_blank">M &amp\; T Bank\, Hudson Valley Division</a></span></span></span>
LOCATION:Please click here to view the Marist College campus map. The event location is #31 on the map. *** Please park in (#6) Donnelly and or (#24) Mid-Rise Hall. (Refer to the map linked above.) Marist College Cabaret 3399 North Road Poughkeepsie\, NY 12601
UID:e.2770.10476471
SEQUENCE:3
DTSTAMP:20260425T210525Z
URL:https://business.dcrcoc.org/events/details/hvyp-helen-rothberg-on-leadership-10476471
END:VEVENT

END:VCALENDAR
