BEGIN:VCALENDAR
VERSION:2.0
PRODID:-//ChamberMaster//Event Calendar 2.0//EN
METHOD:PUBLISH
X-PUBLISHED-TTL:P3D
REFRESH-INTERVAL:P3D
CALSCALE:GREGORIAN
BEGIN:VEVENT
DTSTART:20180917T203000Z
DTEND:20180918T003000Z
X-MICROSOFT-CDO-ALLDAYEVENT:FALSE
SUMMARY:HVYP - Kicks for College Kickball Tournament
DESCRIPTION:SOLD OUT! *** \n\n\n\nJoin us for the Hudson Valley Young Professional's third annual Kicks for College Kickball Tournament!\n\nAll proceeds from the fundraiser will benefit the Chamber Foundation's Richard W. Mitchell Memorial Workforce Development Scholarship which the Hudson Valley Young Professionals support annually. This scholarship is awarded to a Dutchess County resident to aid the advancement of their education.\n\n\n\nPlease Call: 845-454-1700 ext. 1000 to register. \n\nPayment in full is required in order to secure a team reservation.\n\n\n\nSponsored by:\n\n\n\n40 Cannon Street\n\nCR Properties\n\nStudio 8\n\nTompkins Mahopac Bank\n\n\n\nSpecial Thanks to:\n\n\n\nClubWAKA
X-ALT-DESC;FMTTYPE=text/html:<p><span style="font-size: 14px\;"><span style="font-family: arial\;"><span style="font-size:16px\;"><strong><span style="color:#FF0000\;">SOLD OUT! ***&nbsp\;</span></strong></span><br />\n<br />\nJoin us for the Hudson Valley Young Professional&#39\;s third annual Kicks for College Kickball Tournament!</span></span></p>\n\n<p><span style="font-size: 14px\;"><span style="font-family: arial\;">All proceeds from the fundraiser&nbsp\;will&nbsp\;benefit the Chamber Foundation&#39\;s Richard W. Mitchell Memorial Workforce Development Scholarship which the Hudson Valley Young Professionals support annually. This scholarship is awarded to a Dutchess County resident to aid the advancement of their education.<br />\n<br />\n<span style="color:#FF0000\;"><strong>Please Call: 845-454-1700 ext. 1000 to register.&nbsp\;<br />\nPayment in full is required in order to secure a team reservation.</strong></span></span></span><br />\n<br />\n<strong><span style="background-image: initial\; background-position: initial\; background-size: initial\; background-repeat: initial\; background-attachment: initial\; background-origin: initial\; background-clip: initial\;"><span style="font-family: arial\, sans-serif\;"><span style="font-size: 13pt\;">Sponsored by:</span></span></span></strong><br />\n<br />\n<strong><span style="background-image: initial\; background-position: initial\; background-size: initial\; background-repeat: initial\; background-attachment: initial\; background-origin: initial\; background-clip: initial\;"><span style="color: blue\;"><span style="font-family: arial\, sans-serif\;"><span style="font-size: 13pt\;"><a href="http://www.40cannon.com/" target="_blank"><span style="color: blue\;">40 Cannon Street</span></a></span></span></span></span></strong><br />\n<strong><span style="color: blue\;"><span style="font-family: arial\, sans-serif\;"><span style="font-size: 13pt\;"><span style="background-image: initial\; background-position: initial\; background-size: initial\; background-repeat: initial\; background-attachment: initial\; background-origin: initial\; background-clip: initial\;"><a href="http://www.crproperties.com/" target="_blank"><span style="color: blue\;">CR Properties</span></a></span><br />\n<span style="background-image: initial\; background-position: initial\; background-size: initial\; background-repeat: initial\; background-attachment: initial\; background-origin: initial\; background-clip: initial\;"><a href="http://www.studio8fit.com/" target="_blank"><span style="color: blue\;">Studio 8</span></a></span><br />\n<a href="https://www.mahopacbank.com/" target="_blank"><span style="color: blue\;">Tompkins Mahopac Bank</span></a></span></span></span></strong><br />\n<br />\n<span style="font-family: arial\, sans-serif\;"><span style="font-size: 13pt\;"><strong><span style="background-image: initial\; background-position: initial\; background-size: initial\; background-repeat: initial\; background-attachment: initial\; background-origin: initial\; background-clip: initial\;">Special Thanks to:</span></strong></span></span><br />\n<br />\n<strong><span style="background-image: initial\; background-position: initial\; background-size: initial\; background-repeat: initial\; background-attachment: initial\; background-origin: initial\; background-clip: initial\;"><span style="color: blue\;"><span style="font-family: arial\, sans-serif\;"><span style="font-size: 13pt\;"><a href="https://www.kickball.com/" target="_blank"><span style="color: blue\;">ClubWAKA</span></a></span></span></span></span></strong><br />\n&nbsp\;</p>\n
LOCATION:Memorial Park Robert Cahill Drive Beacon\, NY 12508 (Corner of Route 52 & Wilkes Street)
UID:e.2770.10476477
SEQUENCE:3
DTSTAMP:20260425T131542Z
URL:https://business.dcrcoc.org/events/details/hvyp-kicks-for-college-kickball-tournament-10476477
END:VEVENT

END:VCALENDAR
