BEGIN:VCALENDAR
VERSION:2.0
PRODID:-//ChamberMaster//Event Calendar 2.0//EN
METHOD:PUBLISH
X-PUBLISHED-TTL:P3D
REFRESH-INTERVAL:P3D
CALSCALE:GREGORIAN
BEGIN:VEVENT
DTSTART:20171028T140000Z
DTEND:20171028T160000Z
X-MICROSOFT-CDO-ALLDAYEVENT:FALSE
SUMMARY:HVYP: Make a Difference Day
DESCRIPTION:This year\, the Hudson River Housing Make A Difference Day will focus on the City of Poughkeepsie.\n\n\nThe meeting location is 8 North Cherry Street in the City of Poughkeepsie. We will be assisting with clean up throughout the City of Poughkeepsie including along Main Street\, Cherry Street and the East-West Arterial.
X-ALT-DESC;FMTTYPE=text/html:<p style="margin: 0px 0px 14px\; padding: 0px\; font-size: 1.2em\; color: rgb(34\, 34\, 34)\; font-family: Verdana\, Geneva\, sans-serif\;"><span style="font-size: 14px\; color: rgb(51\, 51\, 51)\; font-family: sans-serif\, Arial\, Verdana\, &quot\;Trebuchet MS&quot\;\; background-color: rgb(252\, 252\, 252)\;">This year\, the </span><span style="font-size: 14px\; color: rgb(51\, 51\, 51)\; font-family: sans-serif\, Arial\, Verdana\, &quot\;Trebuchet MS&quot\;\;">Hudson River Housing</span><span style="font-size: 14px\; color: rgb(51\, 51\, 51)\; font-family: sans-serif\, Arial\, Verdana\, &quot\;Trebuchet MS&quot\;\; background-color: rgb(252\, 252\, 252)\;"> Make A Difference Day will focus on the City of Poughkeepsie.</span></p>\n<br />\n<span style="font-size:14px\;">The meeting location is 8 North Cherry Street in the City of Poughkeepsie. We will be assisting with clean up throughout the City of Poughkeepsie including along Main Street\, Cherry Street and the East-West Arterial.&nbsp\;</span><br />\n&nbsp\;
LOCATION:8 North Cherry Street Poughkeepsie NY 12601
UID:e.2770.10476248
SEQUENCE:3
DTSTAMP:20260426T033125Z
URL:https://business.dcrcoc.org/events/details/hvyp-make-a-difference-day-10476248
END:VEVENT

END:VCALENDAR
