BEGIN:VCALENDAR
VERSION:2.0
PRODID:-//ChamberMaster//Event Calendar 2.0//EN
METHOD:PUBLISH
X-PUBLISHED-TTL:P3D
REFRESH-INTERVAL:P3D
CALSCALE:GREGORIAN
BEGIN:VEVENT
DTSTART:20171207T220000Z
DTEND:20171208T000000Z
X-MICROSOFT-CDO-ALLDAYEVENT:FALSE
SUMMARY:HVYP: OverTime Networking
DESCRIPTION:Join the Hudson Valley Young Professionals for an OverTime Networking event. Complimentary appetizers and a cash bar will be available.\n\n\n\nWear your best festive ugly sweater for a prize! Participation is encouraged but not mandatory.\n\n\n\nSponsored by: Hudson Valley Renegades\n\n\n\nThe Hudson Valley Young Professionals will also have a collection box available for donations of new\, unwrapped toys as part of its ongoing Toy Drive sponsored by Foam and Wash and Guardian Self Storage. Gifts this year will benefit children and teens receiving services through The Center for the Prevention of Child Abuse.
X-ALT-DESC;FMTTYPE=text/html:<p style="color: rgb(51\, 51\, 51)\; font-family: sans-serif\, Arial\, Verdana\, &quot\;Trebuchet MS&quot\;\; font-size: 13px\;"><span style="font-size:12px\;"><span style="font-family:verdana\;"><span style="color: rgb(51\, 51\, 51)\; background-color: rgb(255\, 255\, 255)\;">Join the Hudson Valley Young Professionals for an OverTime&nbsp\;Networking event. Complimentary&nbsp\;</span><span style="background-color: rgb(255\, 255\, 255)\;">appetizers</span><span style="color: rgb(51\, 51\, 51)\; background-color: rgb(255\, 255\, 255)\;">&nbsp\;and a cash bar will be available.</span><br />\n<br />\n<strong><span style="color:#FF0000\;">Wear your best festive ugly sweater for a prize! Participation is encouraged but not mandatory.</span></strong><br />\n<br />\n<strong>Sponsored by:</strong> <a href="http://www.hvrenegades.com"><strong>Hudson Valley Renegades</strong></a></span></span><br />\n<br />\n<strong style="color: rgb(51\, 51\, 51)\; font-family: sans-serif\, Arial\, Verdana\, &quot\;Trebuchet MS&quot\;\; font-size: 13px\; background-color: rgb(255\, 255\, 255)\;">The Hudson Valley Young Professionals will also have a collection box available for donations of new\, unwrapped toys as part of its ongoing Toy Drive sponsored by&nbsp\;<a href="http://www.foamandwash.com/" style="color: rgb(7\, 130\, 193)\;" target="_blank">Foam and Wash</a>&nbsp\;and&nbsp\;<a href="http://guardianselfstorage.com/" style="color: rgb(7\, 130\, 193)\;" target="_blank">Guardian Self Storage</a>. Gifts this year will benefit children and teens receiving services through The Center for the Prevention of Child Abuse.</strong></p>\n
LOCATION:The Alley Kat 1677 US 9 Wappingers Falls\, NY
UID:e.2770.10474547
SEQUENCE:3
DTSTAMP:20260426T004825Z
URL:https://business.dcrcoc.org/events/details/hvyp-overtime-networking-12-07-2017-10474547
END:VEVENT

END:VCALENDAR
