BEGIN:VCALENDAR
VERSION:2.0
PRODID:-//ChamberMaster//Event Calendar 2.0//EN
METHOD:PUBLISH
X-PUBLISHED-TTL:P3D
REFRESH-INTERVAL:P3D
CALSCALE:GREGORIAN
BEGIN:VEVENT
DTSTART:20180503T210000Z
DTEND:20180503T230000Z
X-MICROSOFT-CDO-ALLDAYEVENT:FALSE
SUMMARY:HVYP-Unwind
DESCRIPTION:Join the Hudson Valley Young Professionals for an Unwind networking event. Complimentary appetizers and a cash bar will be available.\n\n\n\nFor more information on the Hudson Valley Young Professionals\, click HERE.\n\nSponsored by: Hudson Valley Renegades
X-ALT-DESC;FMTTYPE=text/html:<p>Join the Hudson Valley Young Professionals for an Unwind networking event. Complimentary&nbsp\;<span style="color: black\; font-family: Calibri\, sans-serif\; font-size: 10.5pt\;">appetizers</span>&nbsp\;and a cash bar will be available.<br />\n<br />\nFor more information on the Hudson Valley Young Professionals\, click&nbsp\;<a href="/hvyp">HERE</a>.</p>\n\n<p>Sponsored by:&nbsp\;<a href="http://www.hvrenegades.com">Hudson Valley Renegades</a></p>\n
LOCATION:Oak Vino Wine Bar 389 Main Street Beacon\, NY 12508
UID:e.2770.10476474
SEQUENCE:3
DTSTAMP:20260425T181654Z
URL:https://business.dcrcoc.org/events/details/hvyp-unwind-10476474
END:VEVENT

END:VCALENDAR
