BEGIN:VCALENDAR
VERSION:2.0
PRODID:-//ChamberMaster//Event Calendar 2.0//EN
METHOD:PUBLISH
X-PUBLISHED-TTL:P3D
REFRESH-INTERVAL:P3D
CALSCALE:GREGORIAN
BEGIN:VEVENT
DTSTART:20200604T160000Z
DTEND:20200604T173000Z
X-MICROSOFT-CDO-ALLDAYEVENT:FALSE
SUMMARY:I Received My PPP- Now What?
DESCRIPTION:The EIDL & PPP funds have been flowing and many business owners have received them.  Documenting the use of these funds is critical for the forgiveness calculation. This webinar is intended to help ensure business owners know how to appropriately use the funds and maximize their forgiveness.\n\n\n\nTopics:\n\n\n	\n	Review of the SBA Disaster Assistance Programs: EIDL & PPP\n	\n	\n	Understand how to use the PPP funds for maximum forgiveness\n	\n	\n	PPP record-keeping requirements\n	\n	\n	PPP forgiveness process
X-ALT-DESC;FMTTYPE=text/html:<p><span style="font-size:16px">The EIDL &amp\; PPP funds have been flowing and many business owners have received them.&nbsp\; Documenting the use of these funds is critical for the forgiveness calculation. This webinar is intended to help ensure business owners know how to appropriately use the funds and maximize their forgiveness.<br />\n<br />\n<strong>Topics:</strong></span></p>\n\n<ul>\n	<li>\n	<p><span style="font-size:16px">Review of the SBA Disaster Assistance Programs: EIDL &amp\; PPP</span></p>\n	</li>\n	<li>\n	<p><span style="font-size:16px">Understand how to use the PPP funds for maximum forgiveness</span></p>\n	</li>\n	<li>\n	<p><span style="font-size:16px">PPP record-keeping requirements</span></p>\n	</li>\n	<li>\n	<p><span style="font-size:16px">PPP forgiveness process</span></p>\n	</li>\n</ul>\n
LOCATION:Online
UID:e.2770.10483290
SEQUENCE:3
DTSTAMP:20260422T044903Z
URL:https://business.dcrcoc.org/events/details/i-received-my-ppp-now-what-10483290
END:VEVENT

END:VCALENDAR
