BEGIN:VCALENDAR
VERSION:2.0
PRODID:-//ChamberMaster//Event Calendar 2.0//EN
METHOD:PUBLISH
X-PUBLISHED-TTL:P3D
REFRESH-INTERVAL:P3D
CALSCALE:GREGORIAN
BEGIN:VEVENT
DTSTART:20180324T180000Z
DTEND:20180324T200000Z
X-MICROSOFT-CDO-ALLDAYEVENT:FALSE
SUMMARY:Ice Skate with the Easter Bunny
DESCRIPTION:Come Ice Skate with the Easter Bunny on March 24th Saturday 2:00-4:00 pm. $15 per person\, includes admission\, a cup of hot cocoa and bring your cameras for pictures. Skate Rentals are not included.
X-ALT-DESC;FMTTYPE=text/html:Come Ice Skate with the Easter Bunny on March 24th Saturday 2:00-4:00 pm. $15 per person\, includes admission\, a cup of hot cocoa and bring your cameras for pictures. Skate Rentals are not included.
LOCATION:Mid Hudson Civic Center McCann Ice Arena
UID:e.2770.10476864
SEQUENCE:3
DTSTAMP:20260425T210456Z
URL:https://business.dcrcoc.org/events/details/ice-skate-with-the-easter-bunny-03-24-2018-10476864
END:VEVENT

END:VCALENDAR
