BEGIN:VCALENDAR
VERSION:2.0
PRODID:-//ChamberMaster//Event Calendar 2.0//EN
METHOD:PUBLISH
X-PUBLISHED-TTL:P3D
REFRESH-INTERVAL:P3D
CALSCALE:GREGORIAN
BEGIN:VEVENT
DTSTART:20171112T190000Z
DTEND:20171112T210000Z
X-MICROSOFT-CDO-ALLDAYEVENT:FALSE
SUMMARY:Iconic News Journalist Marvin Scott Conversation and Book Signing
DESCRIPTION:Media and legal analyst Lionel discusses As I Saw It: A Reporter's Intrepid Journey with iconic newscaster and author Marvin Scott. Scott will be discussing and signing copies of his new book at Monte's Local Kitchen and Tap Room in an intimate one on one interview. In As I Saw It\, Scott reflects on the stories that have stuck with the news personality over the years\, and the people who gave them life--from political scandals to hauntings at Amityville\, local tragedies\, triumphs and absurdities find their place alongside accounts of crime and redemption\, war and celebrity on a national scale. The event is free and a portion of the proceeds will be donated to the local library. Appetizers and a wine tasting will round out the afternoon's festivities. Live music by Mark Katz.
X-ALT-DESC;FMTTYPE=text/html:Media and legal analyst Lionel discusses As I Saw It: A Reporter&rsquo\;s Intrepid Journey with iconic newscaster and author Marvin Scott. Scott will be discussing and signing copies of his new book at Monte&#39\;s Local Kitchen and Tap Room in an intimate one on one interview. In As I Saw It\, Scott reflects on the stories that have stuck with the news personality over the years\, and the people who gave them life--from political scandals to hauntings at Amityville\, local tragedies\, triumphs and absurdities find their place alongside accounts of crime and redemption\, war and celebrity on a national scale. The event is free and a portion of the proceeds will be donated to the local library. Appetizers and a wine tasting will round out the afternoon&#39\;s festivities. Live music by Mark Katz.
LOCATION:Monte's Local Kitchen & Tap Room 3330 Route 343\, Amenia\, New York 12501
UID:e.2770.10476442
SEQUENCE:3
DTSTAMP:20260426T020900Z
URL:https://business.dcrcoc.org/events/details/iconic-news-journalist-marvin-scott-conversation-and-book-signing-10476442
END:VEVENT

END:VCALENDAR
