BEGIN:VCALENDAR
VERSION:2.0
PRODID:-//ChamberMaster//Event Calendar 2.0//EN
METHOD:PUBLISH
X-PUBLISHED-TTL:P3D
REFRESH-INTERVAL:P3D
CALSCALE:GREGORIAN
BEGIN:VEVENT
DTSTART:20180121T013000Z
DTEND:20180121T043000Z
X-MICROSOFT-CDO-ALLDAYEVENT:FALSE
SUMMARY:In the Pocket at The Alley Kat!
DESCRIPTION:The Hudson Valley's premier Rock & Soul Cover Band\, In the Pocket debuts at The Alley Kat! Bringing you an exciting\, new collection of soul and funk music along with The Alley Kats expansive drink menu and draft beer selection makes for a great night out!\nCheck out the event details on our Facebook page:\n\nIn the Pocket at The Alley Kat!
X-ALT-DESC;FMTTYPE=text/html:<p><span style="color:rgb(75\, 79\, 86)\; font-family:system-ui\,-apple-system\,blinkmacsystemfont\,.sfnstext-regular\,sans-serif\; font-size:14px">The Hudson Valley&#39\;s premier Rock &amp\; Soul Cover Band\, In the Pocket debuts at The Alley Kat! Bringing you an exciting\, new collection of soul and funk music along with The Alley Kats expansive drink menu and draft beer selection makes for a great night out!</span></p>\nCheck out the event details on our Facebook page:<br />\n<a href="https://www.facebook.com/events/313255315848783/">In the Pocket at The Alley Kat!</a>\n\n<h1>&nbsp\;</h1>\n
LOCATION:The Alley Kat 1677 US 9 Wappingers Falls\, New York\, NY 12590
UID:e.2770.10476688
SEQUENCE:3
DTSTAMP:20260425T232401Z
URL:https://business.dcrcoc.org/events/details/in-the-pocket-at-the-alley-kat-10476688
END:VEVENT

END:VCALENDAR
