BEGIN:VCALENDAR
VERSION:2.0
PRODID:-//ChamberMaster//Event Calendar 2.0//EN
METHOD:PUBLISH
X-PUBLISHED-TTL:P3D
REFRESH-INTERVAL:P3D
CALSCALE:GREGORIAN
BEGIN:VEVENT
DTSTART:20171117T230000Z
DTEND:20171118T010000Z
X-MICROSOFT-CDO-ALLDAYEVENT:FALSE
SUMMARY:Inaugural Opening of the new C-H Gallery
DESCRIPTION:Artist Tarryl Gabel is to be the featured artist for the Inaugural Opening of the new C-H Gallery\, 12 Vassar Street\, Poughkeepsie. This Grand Opening reception will take place on Friday November 17th\, from 6:00-8:00pm. Join us for a ribbon cutting with Mayor Robert Rolison. Come see the two large and lovely Victorian parlor rooms\, turned gallery space\, filled with over 30 paintings by five-time winner\, ?Best of the Hudson Valley\, Best Artist.? Tarryl is best known for her Hudson Valley Landscapes and will have works for sale ranging in size from 6? x 8? to 30? x 40? paintings. Cocoon Theater\, in partnership with Cuneen-Hackett Art Center have established the C-H Gallery in the Cuneen-Hackett Arts Center (theater building). Gallery Hours will be Friday through Sunday from 1:00 to 5:00 pm and by appointment. The C-H Gallery has been formed as a curated art space to exhibit and sell art works with Andres San-Millan as Curator\, and Damon Crumb as Gallery Manager.
X-ALT-DESC;FMTTYPE=text/html:Artist Tarryl Gabel is to be the featured artist for the Inaugural Opening of the new C-H Gallery\, 12 Vassar Street\, Poughkeepsie. This Grand Opening reception will take place on Friday November 17th\, from 6:00-8:00pm. Join us for a ribbon cutting with Mayor Robert Rolison. Come see the two large and lovely Victorian parlor rooms\, turned gallery space\, filled with over 30 paintings by five-time winner\, ?Best of the Hudson Valley\, Best Artist.? Tarryl is best known for her Hudson Valley Landscapes and will have works for sale ranging in size from 6? x 8? to 30? x 40? paintings. Cocoon Theater\, in partnership with Cuneen-Hackett Art Center have established the C-H Gallery in the Cuneen-Hackett Arts Center (theater building). Gallery Hours will be Friday through Sunday from 1:00 to 5:00 pm and by appointment. The C-H Gallery has been formed as a curated art space to exhibit and sell art works with Andres San-Millan as Curator\, and Damon Crumb as Gallery Manager.
LOCATION:C-H Gallery 12 Vassar Street\, Poughkeepsie
UID:e.2770.10476527
SEQUENCE:3
DTSTAMP:20260426T020934Z
URL:https://business.dcrcoc.org/events/details/inaugural-opening-of-the-new-c-h-gallery-10476527
END:VEVENT

END:VCALENDAR
