BEGIN:VCALENDAR
VERSION:2.0
PRODID:-//ChamberMaster//Event Calendar 2.0//EN
METHOD:PUBLISH
X-PUBLISHED-TTL:P3D
REFRESH-INTERVAL:P3D
CALSCALE:GREGORIAN
BEGIN:VEVENT
DTSTART:20190704T130000Z
DTEND:20190704T220000Z
X-MICROSOFT-CDO-ALLDAYEVENT:FALSE
SUMMARY:Independence Day Bash
DESCRIPTION:Celebrate Independence Day with a fun day of fruit picking\, wagon rides\, delicious barbecue\, live music and hard cider! We expect our cherries and blueberries to be ripe and ready for picking (weather dependent) so you can bring some red and blue home with you. We'll have a kids craft on our newly renovated porch\, and we'll be running wagons rides throughout our orchard. The Fishkill Farms Grill will be cooking up a delicious barbecue and the Treasury Cider Garden will be serving cold glasses of hard cider for you to enjoy after a day of harvesting fruit and fun on the farm. Live music in our courtyard will be performed by STAX of SOUL USA.
X-ALT-DESC;FMTTYPE=text/html:Celebrate Independence Day with a fun day of fruit picking\, wagon rides\, delicious barbecue\, live music and hard cider! We expect our cherries and blueberries to be ripe and ready for picking (weather dependent) so you can bring some red and blue home with you. We&#39\;ll have a kids craft on our newly renovated porch\, and we&#39\;ll be running wagons rides throughout our orchard. The Fishkill Farms Grill will be cooking up a delicious barbecue and the Treasury Cider Garden will be serving cold glasses of hard cider for you to enjoy after a day of harvesting fruit and fun on the farm. Live music in our courtyard will be performed by STAX of SOUL USA.
LOCATION:Fishkill Farms 9 Fishkill Farm Rd\, Hopewell Junction\, New York 12533
UID:e.2770.10480964
SEQUENCE:3
DTSTAMP:20260423T011510Z
URL:https://business.dcrcoc.org/events/details/independence-day-bash-10480964
END:VEVENT

END:VCALENDAR
