BEGIN:VCALENDAR
VERSION:2.0
PRODID:-//ChamberMaster//Event Calendar 2.0//EN
METHOD:PUBLISH
X-PUBLISHED-TTL:P3D
REFRESH-INTERVAL:P3D
CALSCALE:GREGORIAN
BEGIN:VEVENT
DTSTART;VALUE=DATE:20180217
DTEND;VALUE=DATE:20180218
TRANSP:TRANSPARENT
X-MICROSOFT-CDO-ALLDAYEVENT:TRUE
SUMMARY:Indoor Golf Tournament
DESCRIPTION:Includes: prizes for the top three teams\, closest to the pin\, longest drive...all players enjoy a catered meal from Rossi's Deli and an Izod golf shirt. Tee Times: 11:30 am\, 3:00 pm and 6:30 pm Levels of sponsorship available
X-ALT-DESC;FMTTYPE=text/html:Includes: prizes for the top three teams\, closest to the pin\, longest drive...all players enjoy a catered meal from Rossi&#39\;s Deli and an Izod golf shirt. Tee Times: 11:30 am\, 3:00 pm and 6:30 pm Levels of sponsorship available
LOCATION:DC Indoor Golf\, 10 Crannell Street\, Poughkeepsie NY
UID:e.2770.10476714
SEQUENCE:3
DTSTAMP:20260425T222036Z
URL:https://business.dcrcoc.org/events/details/indoor-golf-tournament-10476714
END:VEVENT

END:VCALENDAR
