BEGIN:VCALENDAR
VERSION:2.0
PRODID:-//ChamberMaster//Event Calendar 2.0//EN
METHOD:PUBLISH
X-PUBLISHED-TTL:P3D
REFRESH-INTERVAL:P3D
CALSCALE:GREGORIAN
BEGIN:VEVENT
DTSTART:20181031T230000Z
DTEND:20181101T020000Z
X-MICROSOFT-CDO-ALLDAYEVENT:FALSE
SUMMARY:Inn and Spa at Beacon: Roger's Folly Halloween Dance Party with Swing Vipers at the historic Howland Cultural Center
DESCRIPTION:(Swing\, Blues\, All Dancing) Wednesday\, Oct 31 at Roger's Folly's beautiful indoor winter venue at the historic Howland Center. 7:30-10pm. Free basic lesson at 7pm. For more info: @Facebook: Roger's Folly or call 845-205-2900. $15 Admission.
X-ALT-DESC;FMTTYPE=text/html:(Swing\, Blues\, All Dancing) Wednesday\, Oct 31 at Roger&rsquo\;s Folly&rsquo\;s beautiful indoor winter venue at the historic Howland Center. 7:30-10pm. Free basic lesson at 7pm. For more info: @Facebook: Roger&rsquo\;s Folly or call 845-205-2900. $15 Admission.
LOCATION:Howland Center\, 477 Main St\, Beacon NY.
UID:e.2770.10479821
SEQUENCE:3
DTSTAMP:20260425T115459Z
URL:https://business.dcrcoc.org/events/details/inn-and-spa-at-beacon-roger-s-folly-halloween-dance-party-with-swing-vipers-at-the-historic-howland-cultural-center-10479821
END:VEVENT

END:VCALENDAR
