BEGIN:VCALENDAR
VERSION:2.0
PRODID:-//ChamberMaster//Event Calendar 2.0//EN
METHOD:PUBLISH
X-PUBLISHED-TTL:P3D
REFRESH-INTERVAL:P3D
CALSCALE:GREGORIAN
BEGIN:VEVENT
DTSTART:20180308T130000Z
DTEND:20180309T000000Z
X-MICROSOFT-CDO-ALLDAYEVENT:FALSE
SUMMARY:International Women's Day Bus Trip to New York City
DESCRIPTION:As an organization that recognizes the importance of women's issues and the need to continue the momentum towards creating equal opportunities for women\, The Women's Leadership Alliance\, a committee of the Dutchess County Regional Chamber of Commerce\, invites everyone to join forces for International Women's Day. Cost is $50\, and includes round-trip transportation from Poughkeepsie (leaving from the Poughkeepsie Galleria)\, admission and private tour of New York Historical Society's Center for Women's History\, and a box lunch. The day will also include guest speakers and a viewing of "We Rise\," a film narrated by Meryl Streep that puts women at the center of political thought and action that reshaped the country in the early 20th century. Deadline is Friday\, March 2. Payment required in advance. Anyone canceling after that or no-shows will be charged the full amount. Please call (845) 454-1700\, ext. 1000 or visit wlahv.org to RSVP.
X-ALT-DESC;FMTTYPE=text/html:As an organization that recognizes the importance of women&#39\;s issues and the need to continue the momentum towards creating equal opportunities for women\, The Women&rsquo\;s Leadership Alliance\, a committee of the Dutchess County Regional Chamber of Commerce\, invites everyone to join forces for International Women&#39\;s Day. Cost is $50\, and includes round-trip transportation from Poughkeepsie (leaving from the Poughkeepsie Galleria)\, admission and private tour of New York Historical Society&rsquo\;s Center for Women&rsquo\;s History\, and a box lunch. The day will also include guest speakers and a viewing of &ldquo\;We Rise\,&rdquo\; a film narrated by Meryl Streep that puts women at the center of political thought and action that reshaped the country in the early 20th century. Deadline is Friday\, March 2. Payment required in advance. Anyone canceling after that or no-shows will be charged the full amount. Please call (845) 454-1700\, ext. 1000 or visit wlahv.org to RSVP.
LOCATION:New York Historical Society's Center for Women's History
UID:e.2770.10476797
SEQUENCE:3
DTSTAMP:20260425T210652Z
URL:https://business.dcrcoc.org/events/details/international-women-s-day-bus-trip-to-new-york-city-03-08-2018-10476797
END:VEVENT

END:VCALENDAR
