BEGIN:VCALENDAR
VERSION:2.0
PRODID:-//ChamberMaster//Event Calendar 2.0//EN
METHOD:PUBLISH
X-PUBLISHED-TTL:P3D
REFRESH-INTERVAL:P3D
CALSCALE:GREGORIAN
BEGIN:VEVENT
DTSTART:20191230T210000Z
DTEND:20191230T220000Z
X-MICROSOFT-CDO-ALLDAYEVENT:FALSE
SUMMARY:Interview Skill Building
DESCRIPTION:FREE Community Course! Need to brush up on some interviewing skills? Not sure what to do before\, during or after an interview? This free 1 hour class can help! Advance registration is required. Please call Gina Zullo 452-5772 Ext. 102 or email at gzullo@greystoneprograms.org
X-ALT-DESC;FMTTYPE=text/html:FREE Community Course! Need to brush up on some interviewing skills? Not sure what to do before\, during or after an interview? This free 1 hour class can help! Advance registration is required. Please call Gina Zullo 452-5772 Ext. 102 or email at gzullo@greystoneprograms.org
LOCATION:5 Givans Avenue\, 1st Floor Wappingers Falls\, NY 12590
UID:e.2770.10482621
SEQUENCE:3
DTSTAMP:20260422T150148Z
URL:https://business.dcrcoc.org/events/details/interview-skill-building-10482621
END:VEVENT

END:VCALENDAR
