BEGIN:VCALENDAR
VERSION:2.0
PRODID:-//ChamberMaster//Event Calendar 2.0//EN
METHOD:PUBLISH
X-PUBLISHED-TTL:P3D
REFRESH-INTERVAL:P3D
CALSCALE:GREGORIAN
BEGIN:VEVENT
DTSTART:20190904T183000Z
DTEND:20190904T193000Z
X-MICROSOFT-CDO-ALLDAYEVENT:FALSE
SUMMARY:Introduction to LinkedIn at Turning Over Stones Employment and Resource Center
DESCRIPTION:Do you need help with getting your LinkedIn profile started? \n\n\n\nCheck out this FREE seminar offered by Greystone Programs at our Turning Over Stones: Employment and Resource Center. Classes are open to the public\, and did we mention FREE of charge? Join us!\n\n\n\nAdvance registration is required. Call Gina Zullo at (845) 452-5772 ext. 102 or email her at gzullo@greystoneprograms.org
X-ALT-DESC;FMTTYPE=text/html:<span style="color:#1D2129"><span style="font-family:helvetica\,sans-serif"><span style="font-size:10.5pt">Do you need help with getting your LinkedIn profile started? </span></span></span><br />\n<br />\n<span style="color:#1D2129"><span style="font-family:helvetica\,sans-serif"><span style="font-size:10.5pt">Check out this FREE seminar offered by Greystone Programs at our Turning Over Stones: Employment and Resource Center. Classes are open to the public\, and did we mention FREE of charge? Join us!<br />\n<br />\nAdvance registration is required. Call Gina Zullo at (845) 452-5772 ext. 102 or email her at </span></span></span><span style="font-family:helvetica\,sans-serif"><span style="font-size:10.5pt"><a href="mailto:gzullo@greystoneprograms.org">gzullo@greystoneprograms.or</a>g</span></span>
LOCATION:5 Givens Avenue First Floor Wappingers Falls\, NY 12590
UID:e.2770.10481170
SEQUENCE:3
DTSTAMP:20260422T221228Z
URL:https://business.dcrcoc.org/events/details/introduction-to-linkedin-at-turning-over-stones-employment-and-resource-center-10481170
END:VEVENT

END:VCALENDAR
