BEGIN:VCALENDAR
VERSION:2.0
PRODID:-//ChamberMaster//Event Calendar 2.0//EN
METHOD:PUBLISH
X-PUBLISHED-TTL:P3D
REFRESH-INTERVAL:P3D
CALSCALE:GREGORIAN
BEGIN:VEVENT
DTSTART:20180913T120000Z
DTEND:20180913T210000Z
X-MICROSOFT-CDO-ALLDAYEVENT:FALSE
SUMMARY:Investigating Child Abuse - 9th Annual Multi-Disciplinary Team Training
DESCRIPTION:The Multidisciplinary Team (MDT) is an approach to child abuse investigations in which agencies charged with the investigation\, prosecution and treatment of alleged child abuse victims form a partnership to provide a coordinated response. Please join us at this year's training which includes educational sessions from a variety of professionals who are eager to share information\, resources and their specialized expertise.
X-ALT-DESC;FMTTYPE=text/html:The Multidisciplinary Team (MDT) is an approach to child abuse investigations in which agencies charged with the investigation\, prosecution and treatment of alleged child abuse victims form a partnership to provide a coordinated response. Please join us at this year&rsquo\;s training which includes educational sessions from a variety of professionals who are eager to share information\, resources and their specialized expertise.
LOCATION:Hudson Valley Mental Health\, Inc. 230 North Road Poughkeepsie\, NY 12601
UID:e.2770.10479666
SEQUENCE:3
DTSTAMP:20260425T131254Z
URL:https://business.dcrcoc.org/events/details/investigating-child-abuse-9th-annual-multi-disciplinary-team-training-10479666
END:VEVENT

END:VCALENDAR
