BEGIN:VCALENDAR
VERSION:2.0
PRODID:-//ChamberMaster//Event Calendar 2.0//EN
METHOD:PUBLISH
X-PUBLISHED-TTL:P3D
REFRESH-INTERVAL:P3D
CALSCALE:GREGORIAN
BEGIN:VEVENT
DTSTART:20171022T003000Z
DTEND:20171022T033000Z
X-MICROSOFT-CDO-ALLDAYEVENT:FALSE
SUMMARY:Iron Cobra plays The Alley Kat!
DESCRIPTION:Iron Cobra brings the Rock and Roll Circus to The Alley Kat! Playing the best of Van Halen\, Motley Crue - all your rock favorites! Featuring the areas Largest Portable Light/Laser Show!\n\n\n\nCheck out the event details on our Facebook page:\n\n\n\nIron Cobra plays The Alley Kat!
X-ALT-DESC;FMTTYPE=text/html:<span style="color:rgb(75\, 79\, 86)\; font-family:sf optimized\,system-ui\,-apple-system\,blinkmacsystemfont\,.sfnstext-regular\,sans-serif\; font-size:14px">Iron Cobra brings the Rock and Roll Circus to The Alley Kat! Playing the best of Van Halen\, Motley Crue - all your rock favorites! Featuring the areas Largest Portable Light/Laser Show!</span><br />\n<br />\nCheck out the event details on our Facebook page:<br />\n<br />\n<a href="https://www.facebook.com/events/185669558644814/?acontext=%7B%22action_history%22%3A%22[%7B%5C%22surface%5C%22%3A%5C%22page%5C%22%2C%5C%22mechanism%5C%22%3A%5C%22page_upcoming_events_card%5C%22%2C%5C%22extra_data%5C%22%3A[]%7D]%22%2C%22has_source%22%3Atrue%7D">Iron Cobra plays The Alley Kat!</a><br />\n&nbsp\;
LOCATION:The Alley Kat 1677 US 9 Wappingers Falls\, New York\, NY 12590
UID:e.2770.10476359
SEQUENCE:3
DTSTAMP:20260426T033443Z
URL:https://business.dcrcoc.org/events/details/iron-cobra-plays-the-alley-kat-10476359
END:VEVENT

END:VCALENDAR
