BEGIN:VCALENDAR
VERSION:2.0
PRODID:-//ChamberMaster//Event Calendar 2.0//EN
METHOD:PUBLISH
X-PUBLISHED-TTL:P3D
REFRESH-INTERVAL:P3D
CALSCALE:GREGORIAN
BEGIN:VEVENT
DTSTART:20171109T230000Z
DTEND:20171217T230000Z
X-MICROSOFT-CDO-ALLDAYEVENT:FALSE
SUMMARY:It's a Wonderful Life: A Live Radio Play
DESCRIPTION:This beloved American holiday classic comes to captivating life as a live 1940s radio broadcast. With the help of an ensemble that brings a few dozen characters to the stage\, the story of idealistic George Bailey unfolds as he considers ending his life one fateful Christmas Eve.\n\n\n\nBook your holiday office party or your non-profit fundraising event now.
X-ALT-DESC;FMTTYPE=text/html:This beloved American holiday classic comes to captivating life as a live 1940s radio broadcast. With the help of an ensemble that brings a few dozen characters to the stage\, the story of idealistic George Bailey unfolds as he considers ending his life one fateful Christmas Eve.<br />\n<br />\nBook your holiday office party or your non-profit fundraising event now.
LOCATION:Clove Creek Dinner Theater 18 Westage Business Center Drive Fishkill\, NY 12524 845-202-7778 clovecreekdinnertheater.com
UID:e.2770.10476532
SEQUENCE:3
DTSTAMP:20260426T005243Z
URL:https://business.dcrcoc.org/events/details/it-s-a-wonderful-life-a-live-radio-play-10476532
END:VEVENT

END:VCALENDAR
