BEGIN:VCALENDAR
VERSION:2.0
PRODID:-//ChamberMaster//Event Calendar 2.0//EN
METHOD:PUBLISH
X-PUBLISHED-TTL:P3D
REFRESH-INTERVAL:P3D
CALSCALE:GREGORIAN
BEGIN:VEVENT
DTSTART:20180211T013000Z
DTEND:20180211T043000Z
X-MICROSOFT-CDO-ALLDAYEVENT:FALSE
SUMMARY:JAF Band back at The Alley Kat!
DESCRIPTION:JAF Band rocks the Alley Kat with music from the Stones\, Tom Petty\, Beatles\, John Cougar\, Skynyrd\, ZZ Top - music that makes you want to dance! Fabulous food\, a great varieity of craft beer and top shelf liquor...enough said!\nCheck out the event details on our Facebook page:\n\nJAF Band back at The Alley Kat!
X-ALT-DESC;FMTTYPE=text/html:<p><span style="color:rgb(75\, 79\, 86)\; font-family:system-ui\,-apple-system\,blinkmacsystemfont\,.sfnstext-regular\,sans-serif\; font-size:14px">JAF Band rocks the Alley Kat with music from the Stones\, Tom Petty\, Beatles\, John Cougar\, Skynyrd\, ZZ Top - music that makes you want to dance! Fabulous food\, a great varieity of craft beer and top shelf liquor...enough said!</span></p>\nCheck out the event details on our Facebook page:<br />\n<a href="https://www.facebook.com/events/903350516508569/">JAF Band back at The Alley Kat!</a>
LOCATION:The Alley Kat 1677 US 9 Wappingers Falls\, New York\, NY 12590
UID:e.2770.10476760
SEQUENCE:3
DTSTAMP:20260425T232424Z
URL:https://business.dcrcoc.org/events/details/jaf-band-back-at-the-alley-kat-10476760
END:VEVENT

END:VCALENDAR
