BEGIN:VCALENDAR
VERSION:2.0
PRODID:-//ChamberMaster//Event Calendar 2.0//EN
METHOD:PUBLISH
X-PUBLISHED-TTL:P3D
REFRESH-INTERVAL:P3D
CALSCALE:GREGORIAN
BEGIN:VEVENT
DTSTART:20180118T123000Z
DTEND:20180118T140000Z
X-MICROSOFT-CDO-ALLDAYEVENT:FALSE
SUMMARY:January Contact Breakfast
DESCRIPTION:*** Please note that we have rescheduled our contact breakfast for Thursday January 18th. If you register after 4:00 p.m. on Wednesday January 17th you will NOT be on our registration list. Please report to the UNPAID table at the contact breakfast and have your registration confirmation and your receipt ready. Payment in advance is required in order to expedite the check-in process. Cancellations less than 24-hours from the event and no-shows will be charged the full ticket price.\n\n\n\n\n\nMonthly Contact Breakfast featuring a presentation by Ken Pokalsky\, Vice President of The Business Council of New York State\, Inc. He will discuss the 2018 economic outlook for New York State and the Hudson Valley region. This event also serves as the Chamber's Annual Meeting.\n\n\n\nAs you all know\, there are many people in need of our assistance. The Chamber's Ambassador committee has partnered with our Workforce Development Center to collect canned and dry goods at our Contact Breakfast. Your donations are greatly appreciated.\n\n\n\nSponsored by: The Chazen Companies\n\n\n\nNonprofit Tables: The Chamber Foundation\, Inc. & New Yorker's Chorus\np.p1 {margin: 0.0px 0.0px 0.0px 0.0px\; font: 15.0px Calibri}
X-ALT-DESC;FMTTYPE=text/html:<p style="margin: 1.15pt 0in 0pt\;"><span style="font-size: 16px\;"><strong><font face="Calibri"><font color="#000000">*** Please note that we have rescheduled our contact breakfast for Thursday January 18th. If you register after 4:00 p.m. on Wednesday January 17<sup>th</sup></font><font color="#000000"> you will NOT be on our registration list. Please report to the UNPAID table at the contact breakfast and have your registration confirmation and your receipt ready. Payment in advance is required in order to expedite the check-in process. Cancellations less than 24-hours from the event and no-shows will be charged the full ticket price.</font></font></strong></span><br />\n<br />\n<br />\n<span style="font-family: arial\;">Monthly Contact Breakfast featuring a presentation by Ken Pokalsky\, Vice President of The Business Council of New York State\, Inc. He will discuss the 2018 economic outlook for New York State and the Hudson Valley region. This event also serves as the Chamber&rsquo\;s Annual Meeting.</span><o:p></o:p><br />\n<br />\n<span style="font-family: arial\;"><strong style="color: rgb(51\, 51\, 51)\; font-family: sans-serif\, Arial\, Verdana\, &quot\;Trebuchet MS&quot\;\; font-size: 13px\; background-color: rgb(255\, 255\, 255)\;">As you all know\, there are many people in need of our assistance. The Chamber&#39\;s Ambassador committee has partnered with our Workforce Development Center to collect canned and dry goods at our Contact Breakfast. Your donations are greatly appreciated.</strong><br />\n<br />\n<span style="font-family: arial\;">Sponsored by: <span style="color: rgb(0\, 0\, 255)\;"><a href="http://www.chazencompanies.com" target="_blank">The Chazen Companies</a></span><br />\n<br />\nNonprofit Tables: <a href="http://www.chamberfdn.org">The Chamber Foundation\, Inc.</a> &amp\; <a href="http://www.newyorkerschorus.org">New Yorker&#39\;s Chorus</a></span></span></p>\n<style type="text/css">p.p1 {margin: 0.0px 0.0px 0.0px 0.0px\; font: 15.0px Calibri}\n</style>\n
LOCATION:The Poughkeepsie Grand Hotel & Conference Center 40 Civic Center Plaza Poughkeepsie\, NY 12601
UID:e.2770.10476391
SEQUENCE:3
DTSTAMP:20260425T232145Z
URL:https://business.dcrcoc.org/events/details/january-contact-breakfast-10476391
END:VEVENT

END:VCALENDAR
