BEGIN:VCALENDAR
VERSION:2.0
PRODID:-//ChamberMaster//Event Calendar 2.0//EN
METHOD:PUBLISH
X-PUBLISHED-TTL:P3D
REFRESH-INTERVAL:P3D
CALSCALE:GREGORIAN
BEGIN:VEVENT
DTSTART:20200115T123000Z
DTEND:20200115T140000Z
X-MICROSOFT-CDO-ALLDAYEVENT:FALSE
SUMMARY:January Contact Breakfast
DESCRIPTION:***Please note if you try to register after 4:30 PM on Tuesday\, January 14 you will need to pay the walk-in rate at the door***\n\n\n\nMonthly contact breakfast featuring keynote speaker\, Ken Pokalsky\, Vice President\, The Business Council of New York\, focusing on a look ahead to 2020 from a statewide economic and legislative perspective.\n\n\n\nThe breakfast will also be The Chamber's Annual Meeting and feature a brief State of the Chamber update from President and CEO Frank Castella\, Jr.\n\n\n\nAs you all know\, there are many people in need of our assistance. The Chamber's Ambassador committee has partnered with our Workforce Development Center to collect canned and dry goods at our Contact Breakfast. Your donations are greatly appreciated.\n\n\n\nSponsored by: Tompkins Mahopac Bank and JGS\, CPA
X-ALT-DESC;FMTTYPE=text/html:<p><span style="font-size:16px\;"><span style="font-family:tahoma\;"><span style="text-align: left\; color: rgb(255\, 0\, 0)\; text-transform: none\; text-indent: 0px\; letter-spacing: normal\; font-style: normal\; font-variant: normal\; font-weight: 700\; text-decoration: none\; word-spacing: 0px\; display: inline !important\; white-space: normal\; orphans: 2\; float: none\; -webkit-text-stroke-width: 0px\; background-color: rgb(255\, 255\, 255)\;">***Please note if&nbsp\;you try to register after 4:30 PM on Tuesday\, January 14 you will need to pay the walk-in rate at the door***</span><br />\n<br />\nMonthly contact breakfast featuring keynote speaker\,&nbsp\;Ken Pokalsky\, Vice President\, The Business Council of New York\, focusing on&nbsp\;a look ahead to 2020 from a statewide economic and legislative perspective.<br />\n<br />\nThe&nbsp\;breakfast will also be The Chamber&#39\;s Annual Meeting and feature a brief State of the Chamber update from President and CEO Frank Castella\, Jr.<br />\n<br />\n<strong style="color: rgb(51\, 51\, 51)\; font-family: sans-serif\, Arial\, Verdana\, &quot\;Trebuchet MS&quot\;\; font-size: 13px\; background-color: rgb(255\, 255\, 255)\;">As you all know\, there are many people in need of our assistance. The Chamber&#39\;s Ambassador committee has partnered with our Workforce Development Center to collect canned and dry goods at our Contact Breakfast. Your donations are greatly appreciated.</strong><br />\n<br />\n<span style="font-family:times new roman\;"><strong style="color: rgb(51\, 51\, 51)\; font-family: sans-serif\, Arial\, Verdana\, &quot\;Trebuchet MS&quot\;\; font-size: 13px\; background-color: rgb(255\, 255\, 255)\;">Sponsored by: <a href="https://www.mahopacbank.com/" target="_blank"><span style="color:#0000FF\;">Tompkins Mahopac Bank</span></a><span style="color:#0000FF\;">&nbsp\;</span>and <a href="http://www.jgspc.com/" target="_blank"><span style="color:#0000FF\;">JGS\, CPA</span></a></strong></span></span></span></p>\n
LOCATION:The Poughkeepsie Grand Hotel & Conference Center 40 Civic Center Plaza Poughkeepsie\, NY 12601
UID:e.2770.10481428
SEQUENCE:3
DTSTAMP:20260422T133236Z
URL:https://business.dcrcoc.org/events/details/january-contact-breakfast-10481428
END:VEVENT

END:VCALENDAR
