BEGIN:VCALENDAR
VERSION:2.0
PRODID:-//ChamberMaster//Event Calendar 2.0//EN
METHOD:PUBLISH
X-PUBLISHED-TTL:P3D
REFRESH-INTERVAL:P3D
CALSCALE:GREGORIAN
BEGIN:VEVENT
DTSTART:20180707T213000Z
DTEND:20180708T233000Z
X-MICROSOFT-CDO-ALLDAYEVENT:FALSE
SUMMARY:Jazz at the Grille
DESCRIPTION:Join us this summer for our outdoor jazz concert series. The concerts are open-air\, and take place right in our beautiful vineyard on the lawn. Be sure to bring your blanket and chairs! Grilled fare prepared by one of the area's leading gourmet shops and catering companies\, Slammin Salmon. $12.50 General Admission $10.00 Club Members 2018 Performance Schedule July 7: The Burr Johnson Band July 14: Greg Lofaro Jazz Quartet July 21: Beat Street Trio July 28: Out of the Box Jazz Aug. 4: The Larry Ham/Woody Witt Quartet Aug 11: Daniel Bennett Group Aug. 18: Blue in Green Jazz Quartet Aug. 25: Nir Naaman Quartet Sept. 1: Depot Down-Home Dixieland Jam & Jelly Band
X-ALT-DESC;FMTTYPE=text/html:Join us this summer for our outdoor jazz concert series. The concerts are open-air\, and take place right in our beautiful vineyard on the lawn. Be sure to bring your blanket and chairs! Grilled fare prepared by one of the area&rsquo\;s leading gourmet shops and catering companies\, Slammin Salmon. $12.50 General Admission $10.00 Club Members 2018 Performance Schedule July 7: The Burr Johnson Band July 14: Greg Lofaro Jazz Quartet July 21: Beat Street Trio July 28: Out of the Box Jazz Aug. 4: The Larry Ham/Woody Witt Quartet Aug 11: Daniel Bennett Group Aug. 18: Blue in Green Jazz Quartet Aug. 25: Nir Naaman Quartet Sept. 1: Depot Down-Home Dixieland Jam &amp\; Jelly Band
LOCATION:Millbrook Vineyard & Winery 26 Wing Road Millbrook\, NY 12545
UID:e.2770.10479292
SEQUENCE:3
DTSTAMP:20260425T154940Z
URL:https://business.dcrcoc.org/events/details/jazz-at-the-grille-10479292
END:VEVENT

END:VCALENDAR
