BEGIN:VCALENDAR
VERSION:2.0
PRODID:-//ChamberMaster//Event Calendar 2.0//EN
METHOD:PUBLISH
X-PUBLISHED-TTL:P3D
REFRESH-INTERVAL:P3D
CALSCALE:GREGORIAN
BEGIN:VEVENT
DTSTART:20210617T170000Z
DTEND:20210617T200000Z
X-MICROSOFT-CDO-ALLDAYEVENT:FALSE
SUMMARY:Job Fair/Hiring Day at The Grand Rehabilitation and Nursing at Pawling
DESCRIPTION:The Grand Rehabilitation and Nursing at Pawling is having a job fair on Thursday\, June 17th from 1pm-4pm. We will have on the spot interviews for Acting Nursing Assistants\, CNAs\, LPNs\, RNs\, and Non Clinical Staff. We offer Sign On Bonuses and have a Referral Bonus Program! We will be offering food and refreshments as well!
X-ALT-DESC;FMTTYPE=text/html:The Grand Rehabilitation and Nursing at Pawling is having a job fair on Thursday\, June 17th from 1pm-4pm. We will have on the spot interviews for Acting Nursing Assistants\, CNAs\, LPNs\, RNs\, and Non Clinical Staff. We offer Sign On Bonuses and have a Referral Bonus Program! We will be offering food and refreshments as well!
LOCATION:The Grand Rehabilitation and Nursing at Pawling 9 Reservoir Road Pawling\, NY 12564
UID:e.2770.10485230
SEQUENCE:3
DTSTAMP:20260421T095930Z
URL:https://business.dcrcoc.org/events/details/job-fair-hiring-day-at-the-grand-rehabilitation-and-nursing-at-pawling-10485230
END:VEVENT

END:VCALENDAR
