BEGIN:VCALENDAR
VERSION:2.0
PRODID:-//ChamberMaster//Event Calendar 2.0//EN
METHOD:PUBLISH
X-PUBLISHED-TTL:P3D
REFRESH-INTERVAL:P3D
CALSCALE:GREGORIAN
BEGIN:VEVENT
DTSTART:20180807T210000Z
DTEND:20180807T230000Z
X-MICROSOFT-CDO-ALLDAYEVENT:FALSE
SUMMARY:Joint Business After Hours
DESCRIPTION:Monthly networking event joint with Beacon Chamber of Commerce. The Chamber's monthly networking event featuring complimentary hors d'oeuvres and a cash bar. All attendees receive a complimentary ticket to the game that night!\n\n\n\nSponsored by: \n\nAntalek & Moore Insurance\n\nJudelson\, Giordano & Siegel\, CPA\, PC\n\nTD Bank
X-ALT-DESC;FMTTYPE=text/html:<p><span style="font-size: 14px\;">Monthly networking event joint with Beacon Chamber&nbsp\;of Commerce.&nbsp\;<span style="font-family: arial\;">The Chamber&#39\;s monthly networking event featuring complimentary hors d&#39\;oeuvres and a cash bar.&nbsp\;</span>All attendees receive a complimentary ticket to the game that night!</span><br />\n<br />\n<span style="font-size: 16px\;"><span style="color: rgb(0\, 0\, 0)\;"><strong>Sponsored by</strong></span>:</span>&nbsp\;<br />\n<strong><span style="font-size: 16px\;"><span style="font-family: times new roman\;"><a href="http://www.antalek-moore.com"><span style="color: rgb(0\, 0\, 255)\;">Antalek &amp\; Moore&nbsp\;Insurance</span></a><br />\n<a href="http://www.jgspc.com"><span style="color: rgb(0\, 0\, 255)\;">Judelson\, Giordano &amp\; Siegel\, CPA\, PC</span></a><br />\n<a href="http://www.tdbank.com" target="_blank"><span style="color: rgb(0\, 0\, 255)\;">TD Bank</span></a></span></span></strong></p>\n
LOCATION:Dutchess Stadium 1500 NY-9D Wappingers Falls\, NY 12590
UID:e.2770.10478054
SEQUENCE:3
DTSTAMP:20260425T143927Z
URL:https://business.dcrcoc.org/events/details/joint-business-after-hours-10478054
END:VEVENT

END:VCALENDAR
