BEGIN:VCALENDAR
VERSION:2.0
PRODID:-//ChamberMaster//Event Calendar 2.0//EN
METHOD:PUBLISH
X-PUBLISHED-TTL:P3D
REFRESH-INTERVAL:P3D
CALSCALE:GREGORIAN
BEGIN:VEVENT
DTSTART:20180805T003000Z
DTEND:20180805T030000Z
X-MICROSOFT-CDO-ALLDAYEVENT:FALSE
SUMMARY:Jukebox Junkies plays The Alley Kat!
DESCRIPTION:The Junkies bring you some of the greatest songs ever written from the 60's-present\, done with the Junkies twist! So kick back and enjoy a cold draft or cocktail from our fully stocked bar and enjoy the JUKEBOX JUNKIES!\n\n\n\nCheck out the event details on our Facebook page:\n\nJukebox Junkies plays The Alley Kat!
X-ALT-DESC;FMTTYPE=text/html:<span style="color:rgb(29\, 33\, 41)\; font-family:system-ui\,-apple-system\,blinkmacsystemfont\,.sfnstext-regular\,sans-serif\; font-size:14px">The Junkies bring you some of the greatest songs ever written from the 60&#39\;s-present\, done with the Junkies twist! So kick back and enjoy a cold draft or cocktail from our fully stocked bar and enjoy the JUKEBOX JUNKIES!</span><br />\n<br />\nCheck out the event details on our Facebook page:<br />\n<a href="https://www.facebook.com/events/284111675684454/">Jukebox Junkies plays The Alley Kat!</a><br />\n&nbsp\;
LOCATION:The Alley Kat 1677 US 9 Wappingers Falls\, New York\, NY 12590
UID:e.2770.10479427
SEQUENCE:3
DTSTAMP:20260425T144350Z
URL:https://business.dcrcoc.org/events/details/jukebox-junkies-plays-the-alley-kat-10479427
END:VEVENT

END:VCALENDAR
