BEGIN:VCALENDAR
VERSION:2.0
PRODID:-//ChamberMaster//Event Calendar 2.0//EN
METHOD:PUBLISH
X-PUBLISHED-TTL:P3D
REFRESH-INTERVAL:P3D
CALSCALE:GREGORIAN
BEGIN:VEVENT
DTSTART:20180718T113000Z
DTEND:20180718T130000Z
X-MICROSOFT-CDO-ALLDAYEVENT:FALSE
SUMMARY:July Contact Breakfast
DESCRIPTION:Monthly contact breakfast featuring Steve Couture\, the COO of  i. Park 84 to discuss the future vision of the 500-acre former technology park as a place to live work and play. Whatever happened with the old IBM facility in East Fishkill? What is an      i. Park and what do they have planned for that site? \n\n\n\nAs you all know\, there are many people in need of our assistance. The Chamber's Ambassador committee has partnered with our Workforce Development Center to collect canned and dry goods at our Contact Breakfast. Your donations are greatly appreciated.\n\n\n\nSponsored by: TD Bank
X-ALT-DESC;FMTTYPE=text/html:<p><span style="font-size:16px\;"><span style="font-family:times new roman\;">Monthly contact breakfast featuring <strong>Steve Couture\, the COO of&nbsp\; i. Park 84 </strong>to discuss the future vision of the 500-acre former technology park as a place to live work and play.&nbsp\;</span></span><span style="color: rgb(51\, 51\, 51)\; font-family: &quot\;times new roman&quot\;\; font-size: 16px\; background-color: rgb(255\, 255\, 255)\;">Whatever happened with the old IBM facility in East&nbsp\;</span>Fishkill<span style="color: rgb(51\, 51\, 51)\; font-family: &quot\;times new roman&quot\;\; font-size: 16px\; background-color: rgb(255\, 255\, 255)\;">? What is an&nbsp\; &nbsp\; &nbsp\; i. Park and what do they have planned for that site?&nbsp\;</span><br />\n<br />\n<span style="font-size: 14px\;"><span style="font-family:times new roman\;"><strong style="color: rgb(51\, 51\, 51)\; font-family: sans-serif\, Arial\, Verdana\, &quot\;Trebuchet MS&quot\;\; font-size: 13px\; background-color: rgb(255\, 255\, 255)\;">As you all know\, there are many people in need of our assistance. The Chamber&#39\;s Ambassador committee has partnered with our Workforce Development Center to collect canned and dry goods at our Contact Breakfast. Your donations are greatly appreciated.</strong></span><br />\n<br />\n<span style="font-size:16px\;"><strong>Sponsored by</strong>: <strong><u><a href="https://www.tdbank.com/" target="_blank"><span style="color:#0000FF\;">TD Bank</span></a></u></strong></span></span></p>\n
LOCATION:The Poughkeepsie Grand Hotel & Conference Center 40 Civic Center Plaza Poughkeepsie\, NY 12601
UID:e.2770.10476448
SEQUENCE:3
DTSTAMP:20260425T154940Z
URL:https://business.dcrcoc.org/events/details/july-contact-breakfast-07-18-2018-10476448
END:VEVENT

END:VCALENDAR
