BEGIN:VCALENDAR
VERSION:2.0
PRODID:-//ChamberMaster//Event Calendar 2.0//EN
METHOD:PUBLISH
X-PUBLISHED-TTL:P3D
REFRESH-INTERVAL:P3D
CALSCALE:GREGORIAN
BEGIN:VEVENT
DTSTART:20180620T113000Z
DTEND:20180620T130000Z
X-MICROSOFT-CDO-ALLDAYEVENT:FALSE
SUMMARY:June Contact Breakfast
DESCRIPTION:Monthly contact breakfast.\n\nThe Chamber Foundation will present scholarships to local students at this annual education breakfast.\n\n\n\nAs you all know\, there are many people in need of our assistance. The Chamber's Ambassador committee has partnered with our Workforce Development Center to collect canned and dry goods at our Contact Breakfast. Your donations are greatly appreciated.\n\n\n\nSponsored by: Rhinebeck Bank\n\n\n\nNonprofits: The Chamber Foundation\, Inc.
X-ALT-DESC;FMTTYPE=text/html:<p>Monthly contact breakfast.</p>\n\n<p>The Chamber Foundation will present scholarships to local students at this annual education breakfast.<br />\n<br />\n<strong style="color: rgb(51\, 51\, 51)\; font-family: sans-serif\, Arial\, Verdana\, &quot\;Trebuchet MS&quot\;\; font-size: 13px\; background-color: rgb(255\, 255\, 255)\;"><span style="font-size: 14px\;"><span style="font-family: Arial\, Helvetica\, &quot\;MS Sans Serif&quot\;\, sans-serif\;">As you all know\, there are many people in need of our assistance. The Chamber&#39\;s Ambassador committee has partnered with our Workforce Development Center to collect canned and dry goods at our Contact Breakfast. Your donations are greatly appreciated.</span></span></strong><br />\n<br />\n<span style="font-size: 14px\;"><span style="font-family: Arial\, Helvetica\, &quot\;MS Sans Serif&quot\;\, sans-serif\;">Sponsored by: <a href="https://www.rhinebeckbank.com/"><span style="color:#0000FF\;">Rhinebeck Bank</span></a></span></span><br />\n<br />\n<span style="font-family: Arial\, Helvetica\, &quot\;MS Sans Serif&quot\;\, sans-serif\;"><span style="font-size: 14px\;"><span style="font-family: arial\;"><strong>Nonprofits</strong>:&nbsp\;</span></span></span><span style="font-family: arial\; font-size: 14px\;"><a href="http://www.chamberfdn.org" target="_blank"><span style="color: rgb(0\, 0\, 255)\;">The Chamber Foundation\, Inc.</span></a></span></p>\n
LOCATION:The Poughkeepsie Grand Hotel & Conference Center 40 Civic Center Plaza Poughkeepsie\, NY 12601
UID:e.2770.10476436
SEQUENCE:3
DTSTAMP:20260425T170210Z
URL:https://business.dcrcoc.org/events/details/june-contact-breakfast-10476436
END:VEVENT

END:VCALENDAR
