BEGIN:VCALENDAR
VERSION:2.0
PRODID:-//ChamberMaster//Event Calendar 2.0//EN
METHOD:PUBLISH
X-PUBLISHED-TTL:P3D
REFRESH-INTERVAL:P3D
CALSCALE:GREGORIAN
BEGIN:VEVENT
DTSTART:20190619T113000Z
DTEND:20190619T130000Z
X-MICROSOFT-CDO-ALLDAYEVENT:FALSE
SUMMARY:June Contact Breakfast
DESCRIPTION:***Please note if you try to register after 5:30 PM on Tuesday\, June 18th you will NOT be on our registration list. Please report to the UNPAID Table when you arrive.\n\n\n\nMonthly Contact Breakfast\n\n\n\nThe Chamber's June Contact Breakfast will feature a special program from The Chamber Foundation and the presentation of scholarships.\n\n\n\nAs you all know\, there are many people in need of our assistance. The Chamber's Ambassador Committee has partnered with our Workforce Development Center to collect canned and dry goods at our Contact Breakfast. Your donations are greatly appreciated.\n\n\n\nSponsored by: Rhinebeck Bank\n\nNonprofit: Alpha Kappa Alpha Sorority\, Inc. Iota Alpha Omega Chapter
X-ALT-DESC;FMTTYPE=text/html:<p><br />\n<span style="font-size: 20px\;"><strong><span lang="EN" style="color: red\; font-family: &quot\;Calibri&quot\;\,sans-serif\; mso-bidi-font-family: &quot\;Times New Roman&quot\;\; mso-ansi-language: EN\;">***Please note if&nbsp\;you try to register after 5:30 PM on Tuesday\,&nbsp\;June 18th&nbsp\;you will NOT be on our registration list. Please report to the UNPAID Table when you arrive.</span></strong></span><br />\n<br />\n<span style="font-size: 14px\;"><span style="font-family: times new roman\,serif\;"><span style="color: black\;">Monthly Contact Breakfast</span></span><br />\n<br />\n<span style="color: black\;"><span style="font-family: times new roman\,serif\;">The Chamber&rsquo\;s June Contact Breakfast will feature a special program from The Chamber Foundation and the presentation of scholarships.</span></span><br />\n<br />\n<span style="font-family: times new roman\,serif\;"><span style="color: black\;"><strong><span style="background: white\;">As you all know\, there are many people in need of our assistance. The Chamber&#39\;s Ambassador Committee has partnered with our Workforce Development Center to collect canned and dry goods at our Contact Breakfast. Your donations are greatly appreciated.</span></strong></span></span><br />\n<br />\n<span style="font-family: times new roman\,serif\;"><strong><span style="background: white\;"><span style="color: black\;">Sponsored by: </span></span><span style="background: white\;"><span style="color: rgb(51\, 51\, 51)\;"><a href="https://www.mtb.com/home-page" target="_blank"><span style="color: rgb(0\, 0\, 255)\;">Rhinebeck Bank</span></a></span></span></strong><br />\n<strong><strong><span style="background: white\;"><span style="color: black\;">Nonprofit:</span></span>&nbsp\;</strong></strong><a href="http://www.akaiotaalphaomega.com" target="_blank"><strong><span style="text-decoration: none\; text-underline: none\;"><span style="color: rgb(0\, 0\, 255)\;">Alpha Kappa Alpha Sorority\, Inc. Iota Alpha Omega Chapter</span></span></strong></a></span></span></p>\n
LOCATION:The Poughkeepsie Grand Hotel & Conference Center 40 Civic Center Plaza Poughkeepsie\, NY 12601
UID:e.2770.10479879
SEQUENCE:3
DTSTAMP:20260423T025021Z
URL:https://business.dcrcoc.org/events/details/june-contact-breakfast-10479879
END:VEVENT

END:VCALENDAR
