BEGIN:VCALENDAR
VERSION:2.0
PRODID:-//ChamberMaster//Event Calendar 2.0//EN
METHOD:PUBLISH
X-PUBLISHED-TTL:P3D
REFRESH-INTERVAL:P3D
CALSCALE:GREGORIAN
BEGIN:VEVENT
DTSTART:20180325T000000Z
DTEND:20180325T030000Z
X-MICROSOFT-CDO-ALLDAYEVENT:FALSE
SUMMARY:Jungle Love Plays At The Alley Kat!
DESCRIPTION:Have you ever seen a band where the lead singer could be the love child of Otis Redding and Lisa Lampenelli? Stop by The Alley Kat and you will! Great food\, 14 varieties of draft beer\, top shelf liquor and Jungle Love!\nCheck out the event details on our Facebook page:\n\nJungle Love plays The Alley Kat!
X-ALT-DESC;FMTTYPE=text/html:<p><span style="color:rgb(75\, 79\, 86)\; font-family:system-ui\,-apple-system\,blinkmacsystemfont\,.sfnstext-regular\,sans-serif\; font-size:14px">Have you ever seen a band where the lead singer could be the love child of Otis Redding and Lisa Lampenelli? Stop by The Alley Kat and you will! Great food\, 14 varieties of draft beer\, top shelf liquor and Jungle Love!</span></p>\nCheck out the event details on our Facebook page:<br />\n<a href="https://www.facebook.com/events/624639271261147/">Jungle Love plays The Alley Kat!</a>\n\n<h1>&nbsp\;</h1>\n
LOCATION:The Alley Kat 1677 US 9 Wappingers Falls\, New York\, NY 12590
UID:e.2770.10476875
SEQUENCE:3
DTSTAMP:20260425T210742Z
URL:https://business.dcrcoc.org/events/details/jungle-love-plays-at-the-alley-kat-03-24-2018-10476875
END:VEVENT

END:VCALENDAR
