BEGIN:VCALENDAR
VERSION:2.0
PRODID:-//ChamberMaster//Event Calendar 2.0//EN
METHOD:PUBLISH
X-PUBLISHED-TTL:P3D
REFRESH-INTERVAL:P3D
CALSCALE:GREGORIAN
BEGIN:VEVENT
DTSTART:20180210T200000Z
DTEND:20180210T230000Z
X-MICROSOFT-CDO-ALLDAYEVENT:FALSE
SUMMARY:Juried Members' Show Opening Reception
DESCRIPTION:Barrett Art Center presents their Juried Members' Show\, featuring works selected by Sean Hemmerle\, Poughkeepsie-based professional photographer and photography instructor.
X-ALT-DESC;FMTTYPE=text/html:<span style="color:#222222"><span style="font-family:arial\,sans-serif"><span style="font-size:9.5pt">Barrett Art Center presents their Juried Members&rsquo\; Show\, featuring works selected by Sean Hemmerle\, Poughkeepsie-based professional photographer and photography instructor.&nbsp\;</span></span></span>
LOCATION:Barrett Art Center 55 Noxon Street Poughkeepsie\, NY 12601
UID:e.2770.10476732
SEQUENCE:3
DTSTAMP:20260425T222153Z
URL:https://business.dcrcoc.org/events/details/juried-members-show-opening-reception-10476732
END:VEVENT

END:VCALENDAR
